BEGIN:VCALENDAR
VERSION:2.0
PRODID:-//FIT Events - ECPv6.14.0//NONSGML v1.0//EN
CALSCALE:GREGORIAN
METHOD:PUBLISH
X-WR-CALNAME:FIT Events
X-ORIGINAL-URL:https://events.fitnyc.edu
X-WR-CALDESC:Events for FIT Events
REFRESH-INTERVAL;VALUE=DURATION:PT1H
X-Robots-Tag:noindex
X-PUBLISHED-TTL:PT1H
BEGIN:VTIMEZONE
TZID:America/New_York
BEGIN:DAYLIGHT
TZOFFSETFROM:-0500
TZOFFSETTO:-0400
TZNAME:EDT
DTSTART:20250309T070000
END:DAYLIGHT
BEGIN:STANDARD
TZOFFSETFROM:-0400
TZOFFSETTO:-0500
TZNAME:EST
DTSTART:20251102T060000
END:STANDARD
END:VTIMEZONE
BEGIN:VEVENT
DTSTART;VALUE=DATE:20250420
DTEND;VALUE=DATE:20250421
DTSTAMP:20260419T123919
CREATED:20250122T195407Z
LAST-MODIFIED:20250122T195407Z
UID:10007563-1745107200-1745193599@events.fitnyc.edu
SUMMARY:Exhibition: Fashioning Wonder: A Cabinet of Curiosities — Closes
DESCRIPTION:Mary Katrantzou\, printed\, embroidered\, and beaded dress with net overlay\, spring 2019\, England\, museum purchase\, 2023.52.1\nFebruary 19–April 20\, 2025\nSpecial Exhibitions Gallery\nThe Museum at FIT \nFashioning Wonder: A Cabinet of Curiosities is an inventive exhibition that provides the first in-depth exploration of the fascinating connections between cabinets of curiosities and fashion. Also known as wunderkammern in German\, cabinets of curiosities can be traced back to the early 16th century. They were precursors to the modern museum\, and many included examples of clothing. The exhibition features nearly 200 garments and accessories\, almost exclusively selected from MFIT’s permanent collection\, which are inspired by the breadth of objects collected within the cabinets. The objects on view\, many of which are shown for the first time\, are meant to pique curiosity through their rarity\, beauty\, or originality. \nAn introductory gallery examines the history of cabinets of curiosities\, explaining their significance to the Age of Exploration (15th to 17th centuries)\, their ties to colonialism\, and the need for contemporary museums to be more inclusive and informed about the objects they acquire. It also highlights the interconnections between curiosity\, creativity\, and collecting. A dress by Mary Katrantzou dates to her 10th anniversary collection in 2019\, in which she expressed the urge “to amass like objects of a particular kind\, to record\, to study and identify\, to protect and cherish.” Its intricate patterning includes butterflies and seashells\, both of which are regularly featured in the cabinets. \nThis exhibition is free and open to the public. Find out more on The Museum at FIT’s website. 
URL:https://events.fitnyc.edu/event/exhibition-fashioning-wonder-a-cabinet-of-curiosities-closes/
LOCATION:Special Exhibitions Gallery\, The Museum at FIT\, Fashion Institute of Technology\, New York City\, NY\, 10001\, United States
CATEGORIES:Exhibition,Public
ORGANIZER;CN="The Museum at FIT":MAILTO:museuminfo@fitnyc.edu
GEO:40.7536854;-73.9991637
X-APPLE-STRUCTURED-LOCATION;VALUE=URI;X-ADDRESS=Special Exhibitions Gallery The Museum at FIT Fashion Institute of Technology New York City NY 10001 United States;X-APPLE-RADIUS=500;X-TITLE=Fashion Institute of Technology:geo:-73.9991637,40.7536854
END:VEVENT
BEGIN:VEVENT
DTSTART;VALUE=DATE:20250420
DTEND;VALUE=DATE:20250421
DTSTAMP:20260419T123919
CREATED:20250130T205903Z
LAST-MODIFIED:20250203T190144Z
UID:10007585-1745107200-1745193599@events.fitnyc.edu
SUMMARY:Exhibition: Social Responsibilities of Museums — Closes
DESCRIPTION:January 21–April 20\, 2025 \nGladys Marcus Library\, Fourth Floor Exhibit Case \nStudents in FIT’s Art History and Museum Professions program reflected on the social responsibilities of museums in recognition of Black History Month. The Art History and Museum Professions major prepares students for positions in museums and other art institutions\, with a focus on collections management\, development\, education\, public relations\, rights and reproductions\, visitor services\, special events\, and exhibitions. By showcasing books related to five temporary exhibitions hosted by five different New York City museums\, this exhibition\, held at the Gladys Marcus Library’s fourth-floor exhibit case\, hopes to highlight the work being done to uplift marginalized communities. \nShows like the Whitney’s Edges of Ailey and The Met’s Flight into Egypt: Black Artists and Ancient Egypt 1876–Now provide a look into the world of Black artists and how they have shaped so much of American art and music\, yet their names often remain unspoken. History is littered with forgotten voices\, but large cultural centers can forever change the way something is remembered. Museums hold power\, and with that power comes an obligation to the communities that support them. The types of artwork and artists that museums choose for exhibitions reveal what is valued in society. By highlighting Black and Latin American artists\, New York museums prove that they understand the responsibility they hold\, as they seek to include those who have been on the sidelines for far too long. \nAn opening reception will be held Monday\, February 24\, from 3:30 to 4:30 pm. \nCurator: Lisa Yen\nFaculty Advisor: Professor Kyunghee Pyun\, Assistant Chair\, Art History and Museum Professions\nGraphic Designer: Lisa Yen\nContributors: Thursday Abad\, Samantha Barnes\, Ashley Villegas Hernandez\, JaDea Houston\, Cassandra (Cassie) Hughes (students in the Art History and Museum Professions program) \nThis event is part of the FIT Diversity Collective’s Black History Month activities; for a full schedule of activities\, visit fitnyc.edu/blackhistory. \nThis exhibition is for the FIT community only. 
URL:https://events.fitnyc.edu/event/exhibition-social-responsibilities-of-museums-closes/
LOCATION:Gladys Marcus Library\, Fourth Floor\, Goodman Resource Center\, Fashion Institute of Technology\, 227 West 27th Street\, New York\, NY\, 10001\, United States
CATEGORIES:Exhibition
ORGANIZER;CN="Kyunghee Pyun":MAILTO:kyunghee_pyun@fitnyc.edu 
END:VEVENT
BEGIN:VEVENT
DTSTART;VALUE=DATE:20250420
DTEND;VALUE=DATE:20250421
DTSTAMP:20260419T123919
CREATED:20250311T143415Z
LAST-MODIFIED:20250311T143415Z
UID:10007647-1745107200-1745193599@events.fitnyc.edu
SUMMARY:Fashion Design AAS Exhibition: Blank Canvas — Closes
DESCRIPTION:March 29–April 20\, 2025 \nArt and Design Gallery \nThe Spring 2025 Fashion Design AAS Exhibition\, titled Blank Canvas\, empowers students to showcase their technical expertise and artistic vision. Blank Canvas illuminates the intersection of craftsmanship and creativity. \nThe “canvas” in the title references the white material that serves as the basis for each student’s journey. This shared foundation presents endless possibilities for students to push the boundaries of innovation and design. Students are free to transform their white fabric in innumerable ways from dyeing and painting to beading and embroidery. \n\nAbout the Art and Design Gallery \nThe Art and Design Gallery brings together the work of FIT students\, faculty\, alumni\, and invited outside artists in every exhibition. The gallery\, located in the glass-walled lobby of FIT’s Pomerantz Center\, is a window into the college and a window out\, serving as a space to foster learning and innovation. \nThe gallery is open 9 am to 5 pm daily. \nThis exhibition is free and open to the public. 
URL:https://events.fitnyc.edu/event/fashion-design-aas-exhibition-blank-canvas-closes/
LOCATION:Art and Design Gallery\, Pomerantz Center\, Fashion Institute of Technology\, 227 West 27th Street\, New York City\, NY\, 10001\, United States
CATEGORIES:Exhibition,Public
ORGANIZER;CN="Art and Design Gallery":MAILTO:gallery@fitnyc.edu
END:VEVENT
BEGIN:VEVENT
DTSTART;TZID=America/New_York:20250421T170000
DTEND;TZID=America/New_York:20250421T180000
DTSTAMP:20260419T123919
CREATED:20250326T142547Z
LAST-MODIFIED:20250326T185145Z
UID:10007661-1745254800-1745258400@events.fitnyc.edu
SUMMARY:Check In\, Speak Out\, Plan Ahead! Addressing Student Mental Health Concerns on the FIT Campus—Roundtable 1
DESCRIPTION:Are you an FIT employee who has encountered student mental health issues? Join us! \nThe Mental Health Resources Team is holding three whole-community roundtables that include listening and sharing sessions about challenging situations\, tools and techniques for managing difficult moments\, led by FIT’s mental health experts\, and a review of existing FIT resources and relevant outside resources. As an outcome of these roundtables\, we will create professional trainings and materials specifically for you! \nThese will be non-recorded safe spaces for everyone. \nLight refreshments will be served. \nROUNDTABLE SESSION 1: Monday\, April 21\, 5–6 pm \nFeldman Center\, Room C205 \nROUNDTABLE SESSION 2: Friday\, April 25\, 1–2 pm \nPomerantz Center\, Room D442\nInteractive session with tools and techniques led by FIT’s mental health experts \nROUNDTABLE SESSION 3: Monday\, April 28\, 1–2 pm\nFeldman Center\, Room C205 \nThis event is for the FIT community only; REGISTER FOR ANY OF THE ROUNDTABLES ONLINE. 
URL:https://events.fitnyc.edu/event/check-in-speak-out-plan-ahead-addressing-student-mental-health-concerns-on-the-fit-campus-roundtable-1/
LOCATION:Feldman Center\, Room C205\, Fashion Institute of Technology\, 227 West 27th Street\, New York City\, NY\, United States
CATEGORIES:Employee Events,Faculty Events,Roundtable
ORGANIZER;CN="Brenda Cowan":MAILTO:brenda_cowan@fitnyc.edu
GEO:40.7127837;-74.0059413
X-APPLE-STRUCTURED-LOCATION;VALUE=URI;X-ADDRESS=Feldman Center Room C205 Fashion Institute of Technology 227 West 27th Street New York City NY United States;X-APPLE-RADIUS=500;X-TITLE=Fashion Institute of Technology\, 227 West 27th Street:geo:-74.0059413,40.7127837
END:VEVENT
BEGIN:VEVENT
DTSTART;TZID=America/New_York:20250422T120000
DTEND;TZID=America/New_York:20250422T130000
DTSTAMP:20260419T123919
CREATED:20250407T142423Z
LAST-MODIFIED:20250407T142423Z
UID:10007670-1745323200-1745326800@events.fitnyc.edu
SUMMARY:Interviewing Workshop
DESCRIPTION:CIS Counselors will guide you through the process of interviewing.  We will provide you with the foundation to start crafting your story so that you can interview with confidence. We will also cover in-person interviewing\, virtual interviewing\, and asynchronous video interviewing. \nThis event is for the FIT community only; REGISTER HERE. 
URL:https://events.fitnyc.edu/event/interviewing-workshop-2/
LOCATION:Business and Liberal Arts Center\, Room B202\, Fashion Institute of Technology\, 227 W. 27th St.\, New York\, NY\, 10001\, United States
CATEGORIES:Workshop
ORGANIZER;CN="Career and Intership Services":MAILTO:career_internship@fitnyc.edu
END:VEVENT
BEGIN:VEVENT
DTSTART;TZID=America/New_York:20250422T130000
DTEND;TZID=America/New_York:20250422T140000
DTSTAMP:20260419T123919
CREATED:20250401T191556Z
LAST-MODIFIED:20250410T183402Z
UID:10007665-1745326800-1745330400@events.fitnyc.edu
SUMMARY:Sounds\, Silences\, and Echoes: Listening for World War II and the Holocaust from North Africa
DESCRIPTION:Dr. Christopher Silver\, McGill University.       \nThe FIT Holocaust Commemoration Committee and the Diversity Collective host “Sounds\, Silences\, and Echoes: Listening for World War II and the Holocaust from North Africa\,” presented by Dr. Christopher Silver. \nOn the eve of the Second World War\, half a million Jews called North Africa home. Among them\, were some of the most prominent Arabophone recording artists of the interwar period. With the collapse of France’s Third Republic in 1940\, Jewish communities from across Morocco\, Algeria\, and Tunisia\, already subject to the strictures of European colonialism\, now found themselves contending with and confronting fascist rule. For musicians\, this also meant removal from the airwaves and the stage. If the Maghrib has long been considered marginal to the historiography joining World War II to the Holocaust\, this talk considers the implications of bringing the “periphery” to the center of the narrative. To do so\, it amplifies an element too often neglected by historians: the realm of the aural. In listening for wartime radio broadcasts and concerts\, following the circulation of phonograph records and songbooks\, and attending to the sounds and silences of the era\, we will ask what music remembers of a history long forgotten. \nChristopher Silver is the Segal Family Associate Professor in Jewish History and Culture at McGill University. Recipient of awards from the Social Sciences and Humanities Research Council of Canada\, the American Academy of Jewish Research\, the American Institute for Maghrib Studies\, the Association for Recorded Sound Collections\, and the Posen Foundation\, Silver’s scholarship on history\, music\, and the Jewish-Muslim relationship has appeared in many journals including the International Journal of Middle East Studies and Jewish Social Studies. His book Recording History: Jews\, Muslims\, and Music Across Twentieth Century North Africa (Stanford University Press\, 2022) was awarded the L. Carl Brown Book Prize by the American Institute for Maghrib Studies for outstanding book in North African studies (2023) and was recently translated into Arabic. He is also the founder and curator of the website Gharamophone.com\, a digital archive of North African records from the first half of the 20th century. \nThis event is free and open to the public; REGISTER ONLINE. 
URL:https://events.fitnyc.edu/event/sounds-silences-and-echoes-listening-for-world-war-ii-and-the-holocaust-from-north-africa/
LOCATION:Film and Media Screening Room D207\, Pomerantz Center\, New York City \, NY\, United States
CATEGORIES:Lecture,Public
GEO:40.747025;-73.9941136
X-APPLE-STRUCTURED-LOCATION;VALUE=URI;X-ADDRESS=Film and Media Screening Room D207 Pomerantz Center New York City  NY United States;X-APPLE-RADIUS=500;X-TITLE=Pomerantz Center:geo:-73.9941136,40.747025
END:VEVENT
BEGIN:VEVENT
DTSTART;TZID=America/New_York:20250422T130000
DTEND;TZID=America/New_York:20250422T150000
DTSTAMP:20260419T123919
CREATED:20250313T183714Z
LAST-MODIFIED:20250313T194108Z
UID:10007655-1745326800-1745334000@events.fitnyc.edu
SUMMARY:The Best Versions of Ourself Wellness Series: Complete the Campus Crawl with Colleagues
DESCRIPTION:Join special guest and the Diversity Collective Academic Administrative Subcommittee (DCAAS) on a short campus walk on Tuesday\, April 22\, at 1 pm\, meeting in the Feldman Center Lobby. If you missed the March 25 Employee Connections Group\, join Connections “On the Road” with this campus crawl to complete a 2-for-1 bingo card square. \nThis event is part of the Best Versions of Ourself Wellness Series; be sure to bring your bingo card for credit. \nThis event is for FIT employees only.
URL:https://events.fitnyc.edu/event/the-best-versions-of-ourself-wellness-series-complete-the-campus-crawl-with-colleagues/
LOCATION:Feldman Center Lobby\, Marvin Feldman Center\, New York City\, NY\, 10001\, United States
CATEGORIES:Employee Events
GEO:40.7473893;-73.9948645
X-APPLE-STRUCTURED-LOCATION;VALUE=URI;X-ADDRESS=Feldman Center Lobby Marvin Feldman Center New York City NY 10001 United States;X-APPLE-RADIUS=500;X-TITLE=Marvin Feldman Center:geo:-73.9948645,40.7473893
END:VEVENT
BEGIN:VEVENT
DTSTART;TZID=America/New_York:20250424T094500
DTEND;TZID=America/New_York:20250424T110000
DTSTAMP:20260419T123919
CREATED:20250417T151203Z
LAST-MODIFIED:20250417T151203Z
UID:10007685-1745487900-1745492400@events.fitnyc.edu
SUMMARY:FIT Board of Trustees Meeting
DESCRIPTION:The FIT Board of Trustees’ and FIT Student Housing Corporation Board of Directors’ next meeting will be held on Thursday\, April 24\, 2025. \nPublic session: 9:45 am  \nThis event is open to the public.
URL:https://events.fitnyc.edu/event/fit-board-of-trustees-meeting-35/
LOCATION:Robert Lagary Board Room\, Marvin Feldman Center\, Ninth Floor\, Fashion Institute of Technology\, New York City \, NY\, United States
CATEGORIES:Meeting,Public
GEO:40.7127837;-74.0059413
X-APPLE-STRUCTURED-LOCATION;VALUE=URI;X-ADDRESS=Robert Lagary Board Room Marvin Feldman Center Ninth Floor Fashion Institute of Technology New York City  NY United States;X-APPLE-RADIUS=500;X-TITLE=Marvin Feldman Center\, Ninth Floor\, Fashion Institute of Technology:geo:-74.0059413,40.7127837
END:VEVENT
BEGIN:VEVENT
DTSTART;TZID=America/New_York:20250424T120000
DTEND;TZID=America/New_York:20250424T130000
DTSTAMP:20260419T123919
CREATED:20250414T154107Z
LAST-MODIFIED:20250414T155614Z
UID:10007676-1745496000-1745499600@events.fitnyc.edu
SUMMARY:Whitney Museum of American Art Internship Information Session
DESCRIPTION:Find out how you can intern at the Whitney Museum of American Art. \nAs the preeminent advocate for American art\, the Whitney fosters the work of living artists at critical moments in their careers. Meet with Employee Experience Coordinator Lauren Cheung to learn more about the Whitney and their internship programs. \nThis event is for the FIT community only; REGISTER FOR THIS SESSION ONLINE.
URL:https://events.fitnyc.edu/event/whitney-museum-of-american-art-information-session/
LOCATION:Dubinsky Student Center\, Eighth Floor Alcove\, Fashion Institute of Technology\, New York City\, NY\, 10001\, United States
CATEGORIES:Information Session
ORGANIZER;CN="Career and Intership Services":MAILTO:career_internship@fitnyc.edu
GEO:40.747025;-73.9941136
X-APPLE-STRUCTURED-LOCATION;VALUE=URI;X-ADDRESS=Dubinsky Student Center Eighth Floor Alcove Fashion Institute of Technology New York City NY 10001 United States;X-APPLE-RADIUS=500;X-TITLE=Fashion Institute of Technology:geo:-73.9941136,40.747025
END:VEVENT
BEGIN:VEVENT
DTSTART;TZID=America/New_York:20250424T120000
DTEND;TZID=America/New_York:20250424T130000
DTSTAMP:20260419T123919
CREATED:20250424T155845Z
LAST-MODIFIED:20250424T155941Z
UID:10007687-1745496000-1745499600@events.fitnyc.edu
SUMMARY:Job Market Readiness and Job Search Workshop
DESCRIPTION:Eager to land your dream job or internship? Join Career and Internship Services for an insightful session on the key strategies and tools for a successful job search! Discover the importance of research and preparation before diving into your search. \nThis event is for the FIT community only. 
URL:https://events.fitnyc.edu/event/job-market-readiness-and-job-search-workshop/
LOCATION:Business and Liberal Arts Center\, Room B202\, Fashion Institute of Technology\, 227 W. 27th St.\, New York\, NY\, 10001\, United States
CATEGORIES:Workshop
ORGANIZER;CN="Career and Intership Services":MAILTO:career_internship@fitnyc.edu
END:VEVENT
BEGIN:VEVENT
DTSTART;TZID=America/New_York:20250424T170000
DTEND;TZID=America/New_York:20250424T183000
DTSTAMP:20260419T123919
CREATED:20250414T132936Z
LAST-MODIFIED:20250414T133050Z
UID:10007674-1745514000-1745519400@events.fitnyc.edu
SUMMARY:The Art of Profitabilty
DESCRIPTION:Karima Papatia.            Carolyn D’Angelo.     \nHow do you navigate the path to profitability? \nHow can you build a successful career in fashion merchandising? \nPlease join Karima Papatia\, GM Home Marketplace\, and GM Apparel Marketplace at Walmart ECommerce\, for a discussion on merchandising and planning. Moderated by FIT faculty member Carolyn D’Angelo\, Senior Managing Director\, Head of Brand Operations\, Gordon Brothers. \nThis event is for the FIT community only; RSVP to The Art of Profitability online.
URL:https://events.fitnyc.edu/event/the-art-of-profitabilty/
LOCATION:Feldman Center\, Room C205\, Fashion Institute of Technology\, 227 West 27th Street\, New York City\, NY\, United States
CATEGORIES:Conversation
ORGANIZER;CN="Dong Yang":MAILTO:dong_yang@fitnyc.edu
GEO:40.7127837;-74.0059413
X-APPLE-STRUCTURED-LOCATION;VALUE=URI;X-ADDRESS=Feldman Center Room C205 Fashion Institute of Technology 227 West 27th Street New York City NY United States;X-APPLE-RADIUS=500;X-TITLE=Fashion Institute of Technology\, 227 West 27th Street:geo:-74.0059413,40.7127837
END:VEVENT
BEGIN:VEVENT
DTSTART;TZID=America/New_York:20250425T130000
DTEND;TZID=America/New_York:20250425T140000
DTSTAMP:20260419T123919
CREATED:20250326T143253Z
LAST-MODIFIED:20250326T184846Z
UID:10007662-1745586000-1745589600@events.fitnyc.edu
SUMMARY:Check In\, Speak Out\, Plan Ahead! Addressing Student Mental Health Concerns on the FIT Campus—Roundtable 2
DESCRIPTION:Are you an FIT employee who has encountered student mental health issues? Join us! \nThe Mental Health Resources Team is holding three whole-community roundtables that include listening and sharing sessions about challenging situations\, tools and techniques for managing difficult moments\, led by FIT’s mental health experts\, and a review of existing FIT resources and relevant outside resources. As an outcome of these roundtables\, we will create professional trainings and materials specifically for you! \nThese will be non-recorded safe spaces for everyone. \nLight refreshments will be served. \nROUNDTABLE SESSION 1: Monday\, April 21\, 5–6 pm \nFeldman Center\, Room C205 \nROUNDTABLE SESSION 2: Friday\, April 25\, 1–2 pm \nPomerantz Center\, Room D442\nInteractive session with tools and techniques led by FIT’s mental health experts \nROUNDTABLE SESSION 3: Monday\, April 28\, 1–2 pm\nFeldman Center\, Room C205 \nThis event is for the FIT community only; REGISTER FOR ANY OF THE ROUNDTABLES ONLINE. 
URL:https://events.fitnyc.edu/event/check-in-speak-out-plan-ahead-addressing-student-mental-health-concerns-on-the-fit-campus-roundtable-2/
LOCATION:Pomerantz Center\, Room D442\, Fashion Institute of Technology\, 227 West 27th Street\, New York\, NY\, 10001\, United States
CATEGORIES:Employee Events,Faculty Events,Roundtable
ORGANIZER;CN="Brenda Cowan":MAILTO:brenda_cowan@fitnyc.edu
END:VEVENT
END:VCALENDAR