BEGIN:VCALENDAR
VERSION:2.0
PRODID:-//FIT Events - ECPv6.14.0//NONSGML v1.0//EN
CALSCALE:GREGORIAN
METHOD:PUBLISH
X-ORIGINAL-URL:https://events.fitnyc.edu
X-WR-CALDESC:Events for FIT Events
REFRESH-INTERVAL;VALUE=DURATION:PT1H
X-Robots-Tag:noindex
X-PUBLISHED-TTL:PT1H
BEGIN:VTIMEZONE
TZID:America/New_York
BEGIN:DAYLIGHT
TZOFFSETFROM:-0500
TZOFFSETTO:-0400
TZNAME:EDT
DTSTART:20250309T070000
END:DAYLIGHT
BEGIN:STANDARD
TZOFFSETFROM:-0400
TZOFFSETTO:-0500
TZNAME:EST
DTSTART:20251102T060000
END:STANDARD
END:VTIMEZONE
BEGIN:VEVENT
DTSTART;TZID=America/New_York:20250310T110000
DTEND;TZID=America/New_York:20250310T180000
DTSTAMP:20260421T220005
CREATED:20250128T151739Z
LAST-MODIFIED:20250218T191448Z
UID:10007574-1741604400-1741629600@events.fitnyc.edu
SUMMARY:FGI Innovation Summit
DESCRIPTION:Join the FIT Foundation and Fashion Group International (FGI) to learn about the newest technologies at the zeitgeist of innovation in fashion\, beauty\, and retail. \n11 am–1 pm: Networking \n1 pm: Learn How AI Can Support Your Small- to Medium-Size Business\nNew technologies and “how to” for founders to utilize AI as a business resource. \n2 pm: Transparency and Today’s Consumer\nSustainability\, consumer and buying trends\, data for retailers \n3 pm: Innovations in the Global Supply Chain\nProduction resources\, global macro trends\, new markets and introducing new potential partners for industry solutions \n4 pm: Technologies Revolutionizing Beauty and Wellness\nBeauty market development in wellness technologies\, such as innovation in breast cancer detection and other beauty trends \n5–6 pm: Networking Reception \nThis event is open to the general public for a fee; register here. The event is FREE for the FIT community. Staff/faculty register here and students register here.
URL:https://events.fitnyc.edu/event/fgi-innovation-summit/
LOCATION:Katie Murphy Amphitheatre\, Pomerantz Art and Design Center\, Fashion Institute of Technology\, New York City\, NY\, United States
CATEGORIES:Public,Symposium
GEO:40.7127837;-74.0059413
X-APPLE-STRUCTURED-LOCATION;VALUE=URI;X-ADDRESS=Katie Murphy Amphitheatre Pomerantz Art and Design Center Fashion Institute of Technology New York City NY United States;X-APPLE-RADIUS=500;X-TITLE=Pomerantz Art and Design Center\, Fashion Institute of Technology:geo:-74.0059413,40.7127837
END:VEVENT
BEGIN:VEVENT
DTSTART;TZID=America/New_York:20250310T120000
DTEND;TZID=America/New_York:20250310T130000
DTSTAMP:20260421T220005
CREATED:20250205T195419Z
LAST-MODIFIED:20250205T195434Z
UID:10007616-1741608000-1741611600@events.fitnyc.edu
SUMMARY:Academic Credit-Internship Information Session (Virtual)
DESCRIPTION:Join Career and Internship Services (CIS) counselors to learn everything you need to know about the Academic-Credit Internship Program. \nThis session will cover: \n\nThe advantages or participating in an academic-credit internship\nEligibility requirements to enroll\nThe step-by-step application process\n\nThis virtual event is for the FIT community only; REGISTER HERE. 
URL:https://events.fitnyc.edu/event/academic-credit-internship-information-session-virtual-2/
LOCATION:Virtual event
CATEGORIES:Information Session,Online Event
ORGANIZER;CN="Career and Intership Services":MAILTO:career_internship@fitnyc.edu
END:VEVENT
BEGIN:VEVENT
DTSTART;TZID=America/New_York:20250310T130000
DTEND;TZID=America/New_York:20250310T140000
DTSTAMP:20260421T220005
CREATED:20250205T195941Z
LAST-MODIFIED:20250205T195941Z
UID:10007617-1741611600-1741615200@events.fitnyc.edu
SUMMARY:Student Career Fair Prep Workshop
DESCRIPTION:This workshop is designed to answer students’ questions regarding FIT’s spring 2025 in-person career fairs. \nWhether this will be your first career fair or your next one\, join Career and Internship Services representatives to gain valuable tips about preparing for the career fair and leveraging all its offerings. \nThis event is for the FIT community only; REGISTER HERE. 
URL:https://events.fitnyc.edu/event/student-career-fair-prep-workshop-2/
LOCATION:Business and Liberal Arts Center\, Room B202\, Fashion Institute of Technology\, 227 W. 27th St.\, New York\, NY\, 10001\, United States
CATEGORIES:Workshop
ORGANIZER;CN="Career and Intership Services":MAILTO:career_internship@fitnyc.edu
END:VEVENT
BEGIN:VEVENT
DTSTART;TZID=America/New_York:20250311T100000
DTEND;TZID=America/New_York:20250311T130000
DTSTAMP:20260421T220005
CREATED:20250205T183932Z
LAST-MODIFIED:20250205T183932Z
UID:10007612-1741687200-1741698000@events.fitnyc.edu
SUMMARY:Resume Review Days for Students
DESCRIPTION:Have your resume reviewed before Career and Internship Services’ spring 2025 career fairs. Come to our office to receive guidance from a CIS counselor. Bring a printed copy of your resume if you can. \nJust stop on by\, no need to RSVP. \nThis event is for the FIT community only.
URL:https://events.fitnyc.edu/event/resume-review-days-for-students-2/
LOCATION:Business and Liberal Arts Center\, Room B202\, Fashion Institute of Technology\, 227 W. 27th St.\, New York\, NY\, 10001\, United States
CATEGORIES:Workshop
ORGANIZER;CN="Career and Intership Services":MAILTO:career_internship@fitnyc.edu
END:VEVENT
BEGIN:VEVENT
DTSTART;TZID=America/New_York:20250311T130000
DTEND;TZID=America/New_York:20250311T134500
DTSTAMP:20260421T220005
CREATED:20250228T183337Z
LAST-MODIFIED:20250228T183337Z
UID:10007638-1741698000-1741700700@events.fitnyc.edu
SUMMARY:Globally Connected @ FIT Presents: The Instituto Técnico Superior Mercy Jácquez (ITESUMJ) in the Dominican Republic
DESCRIPTION:Arvi María Mármol Hernández            Zaida Godoy Navarro            ITESUMJ founder and FIT alumna Mercy Jácquez.     \nA virtual conversation between students from the Instituto Técnico Superior Mercy Jácquez (ITESUMJ) and FIT students about studying at their institutions\, how they spend their time\, and what they hope for their future careers in design. The founder of ITESUMJ was Mercy Jácquez\, a graduate of FIT in the late 1970s. The conversation will be moderated by FIT professor Zaida Godoy Navarro and ITESUMJ professor and head of Admissions\, Engagement\, and Outreach Arvi María Mármol Hernández\, and will be held in English and Spanish. \nZaida Godoy Navarro is assistant professor of Spanish in the Department of Modern Languages and Cultures at FIT. She received her PhD in Hispanic and Luso-Brazilian Literatures and Languages at The Graduate Center at CUNY. In her research on contemporary Latin-American and Latinx theater\, she explores representations of violence\, social justice\, immigration and issues of gender with a special emphasis on masculinities. \nArvi María Mármol Hernández is head of Admissions\, Engagement and Outreach Coordinator\, and Public Relations Manager at the Instituto Técnico Superior Mercy Jácquez (ITESUMJ). At this institution\, the first Higher Education in the Dominican Republic to be specialized in Interior and Fashion Design\, she also teaches about the Dominican Constitution\, Professional Ethics\, Technical English\, and Thesis Dissertation. \nGlobally Connected @ FIT is hosted by the Office of International Programs\, History of Art\, and the Cultural Fellows. \nThis virtual event is free and open to the public; REGISTER ONLINE.
URL:https://events.fitnyc.edu/event/globally-connected-fit-presents-the-instituto-tecnico-superior-mercy-jacquez-itesumj-in-the-dominican-republic/
LOCATION:Virtual event
CATEGORIES:Conversation,Online Event,Public
ORGANIZER;CN="Helen Gaudette":MAILTO:Helen_Gaudette@fitnyc.edu
END:VEVENT
BEGIN:VEVENT
DTSTART;TZID=America/New_York:20250312T110000
DTEND;TZID=America/New_York:20250312T143000
DTSTAMP:20260421T220005
CREATED:20250306T173700Z
LAST-MODIFIED:20250306T212438Z
UID:10007644-1741777200-1741789800@events.fitnyc.edu
SUMMARY:Spring 2025 Art and Design Career Fair
DESCRIPTION:Don’t miss this exclusive opportunity to connect with the recruiters from the art and design industry. All majors in the School of Art and Design should attend! \nHere’s a partial list of scheduled companies: \n\nArsenal NYC\nCreative Designs by Sofia\nD’art five llc.\nDelta Galil\nEnchante Accessories Inc.\nFactory 360\nFaherty Brand\nFantasma Toys\nGlory Apparel NYC\nGroupe Dynamite\nHappy Threads\nHarry Winston\nMagna Pouch LLC\nNew Balance\nNew Era Cap LLC\nTanya Taylor\nURBN – Urban Outfitters\, Inc.\nVictoria’s Secret\nVince.\nVineyard Vines\nWeatherWool\nX-ray Jeans\n\nDownload the Career Fair Plus App for the complete list of organizations scheduled to attend. \nThis event is for the FIT community only. 
URL:https://events.fitnyc.edu/event/spring-2025-art-and-design-career-fair/
LOCATION:John E. Reeves Great Hall\, Conference Center\, Fashion Institute of Technology\, New York City\, NY\, 10001\, United States
CATEGORIES:Expo
ORGANIZER;CN="Career and Intership Services":MAILTO:career_internship@fitnyc.edu
GEO:40.3046679;-73.9789587
X-APPLE-STRUCTURED-LOCATION;VALUE=URI;X-ADDRESS=John E. Reeves Great Hall Conference Center Fashion Institute of Technology New York City NY 10001 United States;X-APPLE-RADIUS=500;X-TITLE=Conference Center\, Fashion Institute of Technology:geo:-73.9789587,40.3046679
END:VEVENT
BEGIN:VEVENT
DTSTART;TZID=America/New_York:20250312T173000
DTEND;TZID=America/New_York:20250312T190000
DTSTAMP:20260421T220005
CREATED:20250122T210905Z
LAST-MODIFIED:20250122T210905Z
UID:10007569-1741800600-1741806000@events.fitnyc.edu
SUMMARY:Fashion Culture: All That Glitters ... Conservation and Sustainability of Fashion Collections
DESCRIPTION:Wedding reception qipao from Romance Bridal Shop in San Jose\, CA\, 1994. The FTS Graduate Study Collection.\nIn connection to the exhibition All That Glitters … \, The Museum at FIT and the master’s-level Fashion and Textile Studies: History\, Theory\, Museum Practice program host a panel discussion on the conservation of dress collections\, exploring how the development of new fashion materials and industry technology affects deterioration. The sustainability of fashion is considered from the stage of initial production to long-term care in a museum. The panel includes MFIT conservators Alison Castaneda and Callie O’Connor\, and graduate conservation student Katherine Shark. \nFashion Culture programs are organized by The Museum at FIT to provide new perspectives on the culture of fashion. All programs are free unless otherwise indicated. However\, reservations are strongly encouraged\, as space is limited. See a full calendar of spring 2025 Fashion Culture Program events on the museum website. \nThis event is free and open to the public; REGISTER HERE. 
URL:https://events.fitnyc.edu/event/fashion-culture-all-that-glitters-conservation-and-sustainability-of-fashion-collections/
LOCATION:Katie Murphy Amphitheatre\, Pomerantz Art and Design Center\, Fashion Institute of Technology\, New York City\, NY\, United States
CATEGORIES:Panel Discussion,Public
ORGANIZER;CN="The Museum at FIT":MAILTO:museuminfo@fitnyc.edu
GEO:40.7127837;-74.0059413
X-APPLE-STRUCTURED-LOCATION;VALUE=URI;X-ADDRESS=Katie Murphy Amphitheatre Pomerantz Art and Design Center Fashion Institute of Technology New York City NY United States;X-APPLE-RADIUS=500;X-TITLE=Pomerantz Art and Design Center\, Fashion Institute of Technology:geo:-74.0059413,40.7127837
END:VEVENT
BEGIN:VEVENT
DTSTART;TZID=America/New_York:20250313T110000
DTEND;TZID=America/New_York:20250313T143000
DTSTAMP:20260421T220005
CREATED:20250306T212556Z
LAST-MODIFIED:20250306T212556Z
UID:10007645-1741863600-1741876200@events.fitnyc.edu
SUMMARY:Spring 2025 Career and Internship Fair
DESCRIPTION:Don’t miss this exclusive opportunity to connect with recruiters at this career and internship fair. Open to students from all majors. \nHere’s a partial list of scheduled companies: \n\napre nyc\nAuthentic Brands Group\nBulgari\nCentury 21 NYC\nClarins USA\nCutie Pie Baby\nELEMIS\nElite World Group\nFantasma Toys\nFaviana Int’l. Inc.\nGilded Age\nGround Up International\nHaddad Brands\nHappy Threads\nHuntsman Savile Row\nKleinfeld Bridal\nKohler Signature Store\nMacy’s\nMajesty Brands\nNew Era Cap LLC\nPem-America\, Inc.\nPeridot Fine Jewelry\nPerry Ellis International\nPink Chicken New York\nPower Digital Marketing\nProject Visual\nPuig\nRDG Global\nRick Owens\nRoss Stores\, Inc.\nSplits59\nSTANTT\nTakasago International Corp.\nThe Peace Corps\nWeatherWool\n\nDownload the Career Fair Plus App for the complete list of organizations scheduled to attend. \nThis event is for the FIT community only. 
URL:https://events.fitnyc.edu/event/spring-2025-career-and-internship-fair/
LOCATION:John E. Reeves Great Hall\, Conference Center\, Fashion Institute of Technology\, New York City\, NY\, 10001\, United States
CATEGORIES:Expo
ORGANIZER;CN="Career and Intership Services":MAILTO:career_internship@fitnyc.edu
GEO:40.3046679;-73.9789587
X-APPLE-STRUCTURED-LOCATION;VALUE=URI;X-ADDRESS=John E. Reeves Great Hall Conference Center Fashion Institute of Technology New York City NY 10001 United States;X-APPLE-RADIUS=500;X-TITLE=Conference Center\, Fashion Institute of Technology:geo:-73.9789587,40.3046679
END:VEVENT
BEGIN:VEVENT
DTSTART;TZID=America/New_York:20250313T123000
DTEND;TZID=America/New_York:20250313T140000
DTSTAMP:20260421T220005
CREATED:20250305T205916Z
LAST-MODIFIED:20250305T205916Z
UID:10007642-1741869000-1741874400@events.fitnyc.edu
SUMMARY:Collaborative and Cooperative Strategies in the Teaching and Learning Space
DESCRIPTION:This workshop will focus on two ways to guide peer interaction to support deeper learning and improve assignment outcomes. Peer-to-peer engagement is effectively profiled and compared through collaborative engagement and cooperative strategies. \nJoin Michael Cokkinos\, professor of Marketing Communications; Ashley Teamer\, professor of Fine Arts; and CET Coordinator Jeffrey Riman as we explore ways to enhance the value of peer learning. \nThis event is for FIT faculty only; REGISTER ONLINE. 
URL:https://events.fitnyc.edu/event/collaborative-and-cooperative-strategies-in-the-teaching-and-learning-space/
LOCATION:Rita and Bruce Roberts Room\, Feldman Center\, Ninth Floor\, Fashion Institute of Technology\, New York City\, NY\, 10001\, United States
CATEGORIES:Faculty Events,Workshop
GEO:40.747025;-73.9941136
X-APPLE-STRUCTURED-LOCATION;VALUE=URI;X-ADDRESS=Rita and Bruce Roberts Room Feldman Center Ninth Floor Fashion Institute of Technology New York City NY 10001 United States;X-APPLE-RADIUS=500;X-TITLE=Fashion Institute of Technology:geo:-73.9941136,40.747025
END:VEVENT
BEGIN:VEVENT
DTSTART;TZID=America/New_York:20250314T090000
DTEND;TZID=America/New_York:20250314T120000
DTSTAMP:20260421T220005
CREATED:20250205T200914Z
LAST-MODIFIED:20250205T200914Z
UID:10007618-1741942800-1741953600@events.fitnyc.edu
SUMMARY:Macy's Student Corporate Visit
DESCRIPTION:Are you looking for an internship or entry level role at Macy’s? Sign up for this tour to meet with Macy’s recruiters and executives. Spots are limited and are allocated on a first-come\, first-served basis. \nThis event is for the FIT community only; REGISTER HERE by February 27. 
URL:https://events.fitnyc.edu/event/macys-student-corporate-visit/
LOCATION:Macy’s corporate office\, New York\, NY\, United States
CATEGORIES:Information Session
ORGANIZER;CN="Career and Intership Services":MAILTO:career_internship@fitnyc.edu
END:VEVENT
BEGIN:VEVENT
DTSTART;TZID=America/New_York:20250314T090000
DTEND;TZID=America/New_York:20250314T170000
DTSTAMP:20260421T220005
CREATED:20250218T180636Z
LAST-MODIFIED:20250228T212651Z
UID:10007635-1741942800-1741971600@events.fitnyc.edu
SUMMARY:Womxn's Empowerment Conference
DESCRIPTION:Join the Department of Student Life and Department of Residential Life as we host FIT’s first ever Womxn’s Empowerment Conference in celebration of Women’s History Month! This dynamic conference is designed to uplift and equip womxn with the confidence to thrive in their careers\, bodies\, and lives. \nThroughout the day\, engaging 30–45 minute sessions will offer invaluable insights\, including Personal Financial Planning with Morgan Stanley Private Wealth Advisor Pendleton Bogache and Womxn of Color—Navigating the Industry\, hosted by the Social Justice Center. \nAttendees will also have the opportunity to connect with FIT campus partners\, shop from alumni vendors\, and experience a highly anticipated keynote from FIT alumna Claudine Josephs\, COO of LL Cool J Inc.\, and Fallon & Ava. \nFind more details on the conference website.  \nThis event is for FIT students only; REGISTRATION IS REQUIRED. 
URL:https://events.fitnyc.edu/event/womxns-empowerment-conference/
LOCATION:John E. Reeves Great Hall\, Conference Center\, Fashion Institute of Technology\, New York City\, NY\, 10001\, United States
CATEGORIES:Conference
ORGANIZER;CN="Department of Student Life":MAILTO:student_life@fitnyc.edu
GEO:40.3046679;-73.9789587
X-APPLE-STRUCTURED-LOCATION;VALUE=URI;X-ADDRESS=John E. Reeves Great Hall Conference Center Fashion Institute of Technology New York City NY 10001 United States;X-APPLE-RADIUS=500;X-TITLE=Conference Center\, Fashion Institute of Technology:geo:-73.9789587,40.3046679
END:VEVENT
BEGIN:VEVENT
DTSTART;TZID=America/New_York:20250314T133000
DTEND;TZID=America/New_York:20250314T143000
DTSTAMP:20260421T220005
CREATED:20250205T201354Z
LAST-MODIFIED:20250205T201354Z
UID:10007619-1741959000-1741962600@events.fitnyc.edu
SUMMARY:LinkedIn Workshop for Students (Virtual)
DESCRIPTION:Career and Internship Services career counselors will guide you through the process of building a branded LinkedIn profile. \nA quality LinkedIn presence is your gateway to networking\, career development. Your profile might be the first impression employers and your peers have of you! Let’s work together to brand your LinkedIn profile for career success. \nThis virtual event is for the FIT community only; REGISTER HERE. 
URL:https://events.fitnyc.edu/event/linkedin-workshop-for-students-virtual/
LOCATION:Virtual event
CATEGORIES:Online Event,Workshop
ORGANIZER;CN="Career and Intership Services":MAILTO:career_internship@fitnyc.edu
END:VEVENT
END:VCALENDAR