BEGIN:VCALENDAR
VERSION:2.0
PRODID:-//FIT Events - ECPv6.14.0//NONSGML v1.0//EN
CALSCALE:GREGORIAN
METHOD:PUBLISH
X-ORIGINAL-URL:https://events.fitnyc.edu
X-WR-CALDESC:Events for FIT Events
REFRESH-INTERVAL;VALUE=DURATION:PT1H
X-Robots-Tag:noindex
X-PUBLISHED-TTL:PT1H
BEGIN:VTIMEZONE
TZID:America/New_York
BEGIN:DAYLIGHT
TZOFFSETFROM:-0500
TZOFFSETTO:-0400
TZNAME:EDT
DTSTART:20250309T070000
END:DAYLIGHT
BEGIN:STANDARD
TZOFFSETFROM:-0400
TZOFFSETTO:-0500
TZNAME:EST
DTSTART:20251102T060000
END:STANDARD
END:VTIMEZONE
BEGIN:VEVENT
DTSTART;TZID=America/New_York:20250210T170000
DTEND;TZID=America/New_York:20250210T220000
DTSTAMP:20260423T145539
CREATED:20250204T181858Z
LAST-MODIFIED:20250207T214314Z
UID:10007593-1739206800-1739224800@events.fitnyc.edu
SUMMARY:Justice Film Festival 2025: Session 1
DESCRIPTION:Still from I Am Ready\, Warden.\nThe Justice Film Festival showcases films that emphasize social justice and affirm the dignity of all people. Since 2012\, JFF has been committed to creating a platform for redemptive stories of marginalized people and ecosystems bravely overcoming challenges and bringing optimism\, empathy\, and light to a world in need of inspiration. \nThe Social Justice Center at FIT is proud to partner with JFF for the portion of the festival taking place at the college. \nFebruary 10: Session 1\, 5–10 pm \nFilm and Media Screening Room D207 \n\n5 pm: I Am Ready\, Warden (Academy Award nominee)\, followed by Q&A with director Smriti Mundhra\, producer Sheila Nevins\, and film subject Aaron Castro\n6:30 pm: Rule Breakers\, followed by Q&A with Roya and Elaha Mahboob\n7:30 pm: Plainspoken\, followed by Q&A with filmmakers\n\nThe film festival is open to the public; it is a ticketed event.  \nAll events during the festival are free to all FIT students\, faculty\, and alumni. Use promo code FITFREE for ticketed events; tickets are available here. 
URL:https://events.fitnyc.edu/event/justice-film-festival-2025/
LOCATION:Film and Media Screening Room D207\, Pomerantz Center\, New York City \, NY\, United States
CATEGORIES:Film Screening,Public
ORGANIZER;CN="Social Justice Center at FIT":MAILTO:socialjusticecenter@fitnyc.edu
GEO:40.747025;-73.9941136
X-APPLE-STRUCTURED-LOCATION;VALUE=URI;X-ADDRESS=Film and Media Screening Room D207 Pomerantz Center New York City  NY United States;X-APPLE-RADIUS=500;X-TITLE=Pomerantz Center:geo:-73.9941136,40.747025
END:VEVENT
BEGIN:VEVENT
DTSTART;TZID=America/New_York:20250211T120000
DTEND;TZID=America/New_York:20250211T130000
DTSTAMP:20260423T145539
CREATED:20250129T174609Z
LAST-MODIFIED:20250129T174641Z
UID:10007580-1739275200-1739278800@events.fitnyc.edu
SUMMARY:Career and Internship Services Open House
DESCRIPTION:At this open house\, meet with the Career and Internship Services team to learn about: \n\nour online job and internship database\,\npaid job opportunities\,\ncredited internships\,\nbranding yourself\,\nresumes and cover letters\,\nportfolio development\,\nnetworking\,\ninterviewing\,\nprofessional outreach\,\nemployer events\,\nand more!\n\nThis event is for the FIT community only; REGISTER HERE. 
URL:https://events.fitnyc.edu/event/career-and-internship-services-open-house/
LOCATION:Business and Liberal Arts Center\, Room B202\, Fashion Institute of Technology\, 227 W. 27th St.\, New York\, NY\, 10001\, United States
CATEGORIES:Open House
ORGANIZER;CN="Career and Intership Services":MAILTO:career_internship@fitnyc.edu
END:VEVENT
BEGIN:VEVENT
DTSTART;TZID=America/New_York:20250211T141500
DTEND;TZID=America/New_York:20250211T151500
DTSTAMP:20260423T145539
CREATED:20250127T161255Z
LAST-MODIFIED:20250203T150431Z
UID:10007573-1739283300-1739286900@events.fitnyc.edu
SUMMARY:ARTSpeak: Oasa DuVerney
DESCRIPTION:DuVerney and “A Growing Veil\,” 2022\, graphite and acrylic on handcut paper.\nArtist and FIT Fine Arts alumna Oasa DuVerney is known for her figurative works utilizing graphite on paper. DuVerney’s work centers itself in social and political commentary that relates to her social status as a woman of color and a working-class person. DuVerney’s work is in the permanent collection of the Cooper Hewitt\, Smithsonian Design Museum\, and the Metropolitan Museum of Art\, which is currently featuring her work in Flight into Egypt: Black Artists and Ancient Egypt\, 1876–Now. She was recently awarded a New York City Percent for Art commission to create work for the Brooklyn Public Library Eastern Parkway Branch. \nShe received her BFA from FIT\, and her MFA from Hunter College and is currently an assistant professor for the School of Art and School of Design at Pratt Institute. \nThe 2024–25 ARTSpeak lecture series is presented by the departments of Fine Arts and History of Art and been made possible by generous grants from Susan Daykin\, the dean of the School of Art and Design\, and the dean of the School of Liberal Arts and Sciences. \nThis event is part of FIT’s 2025 Black History Month activities. Find out more at fitnyc.edu/blackhistory. \nThis event is free and open to the public. 
URL:https://events.fitnyc.edu/event/artspeak-oasa-duverney/
LOCATION:Katie Murphy Amphitheatre\, Pomerantz Art and Design Center\, Fashion Institute of Technology\, New York City\, NY\, United States
CATEGORIES:Lecture,Public
ORGANIZER;CN="Julia Jacquette":MAILTO:julia_jacquette@fitnyc.edu
GEO:40.7127837;-74.0059413
X-APPLE-STRUCTURED-LOCATION;VALUE=URI;X-ADDRESS=Katie Murphy Amphitheatre Pomerantz Art and Design Center Fashion Institute of Technology New York City NY United States;X-APPLE-RADIUS=500;X-TITLE=Pomerantz Art and Design Center\, Fashion Institute of Technology:geo:-74.0059413,40.7127837
END:VEVENT
BEGIN:VEVENT
DTSTART;TZID=America/New_York:20250211T170000
DTEND;TZID=America/New_York:20250211T184500
DTSTAMP:20260423T145539
CREATED:20250204T184721Z
LAST-MODIFIED:20250204T194451Z
UID:10007594-1739293200-1739299500@events.fitnyc.edu
SUMMARY:Justice Film Festival 2025: Session 2
DESCRIPTION:The Justice Film Festival showcases films that emphasize social justice and affirm the dignity of all people. Since 2012\, JFF has been committed to creating a platform for redemptive stories of marginalized people and ecosystems bravely overcoming challenges and bringing optimism\, empathy\, and light to a world in need of inspiration. \nFebruary 11: Session 2\, 5–6:45 pm \nKatie Murphy Amphitheatre \n\n5 pm: Charlotte Seven\n5:30 pm: Black Girls\, followed by Q&A with director B. Monet\n\nThe Social Justice Center at FIT is proud to partner with JFF for the portion of the festival taking place at the college\, February 10–12. Find the full schedule here. \nThe film festival is open to the public; it is a ticketed event.  \nAll events during the festival are free to all FIT students\, faculty\, and alumni. Use promo code FITFREE for ticketed events; tickets are available here. 
URL:https://events.fitnyc.edu/event/justice-film-festival-session-2/
LOCATION:Katie Murphy Amphitheatre\, Pomerantz Art and Design Center\, Fashion Institute of Technology\, New York City\, NY\, United States
CATEGORIES:Film Screening,Public
ORGANIZER;CN="Social Justice Center at FIT":MAILTO:socialjusticecenter@fitnyc.edu
GEO:40.7127837;-74.0059413
X-APPLE-STRUCTURED-LOCATION;VALUE=URI;X-ADDRESS=Katie Murphy Amphitheatre Pomerantz Art and Design Center Fashion Institute of Technology New York City NY United States;X-APPLE-RADIUS=500;X-TITLE=Pomerantz Art and Design Center\, Fashion Institute of Technology:geo:-74.0059413,40.7127837
END:VEVENT
BEGIN:VEVENT
DTSTART;TZID=America/New_York:20250211T180000
DTEND;TZID=America/New_York:20250211T190000
DTSTAMP:20260423T145539
CREATED:20250207T143157Z
LAST-MODIFIED:20250207T143157Z
UID:10007629-1739296800-1739300400@events.fitnyc.edu
SUMMARY:Center for Continuing and Professional Studies Info Session (In Person)
DESCRIPTION:Looking for a new job\, skill\, or do you just want to learn something new\, interesting\, and innovative? \nFIT’s programs in the Center for Continuing and Professional Studies are the perfect fit for those looking to advance in their careers or find a new job or learn the latest technologies. \nLearn about certificate opportunities in a variety of fields\, as well as individual course offerings\, from beginner to advanced. A question and answer session will follow a presentation highlighting course and certificate programs. \nThis event is free and open to the public; REGISTER HERE. 
URL:https://events.fitnyc.edu/event/center-for-continuing-and-professional-studies-info-session-in-person-4/
LOCATION:Feldman Center\, Room C205\, Fashion Institute of Technology\, 227 West 27th Street\, New York City\, NY\, United States
CATEGORIES:Information Session,Public
ORGANIZER;CN="Center for Continuing and Professional Studies":MAILTO:conted@fitnyc.edu
GEO:40.7127837;-74.0059413
X-APPLE-STRUCTURED-LOCATION;VALUE=URI;X-ADDRESS=Feldman Center Room C205 Fashion Institute of Technology 227 West 27th Street New York City NY United States;X-APPLE-RADIUS=500;X-TITLE=Fashion Institute of Technology\, 227 West 27th Street:geo:-74.0059413,40.7127837
END:VEVENT
BEGIN:VEVENT
DTSTART;TZID=America/New_York:20250211T190000
DTEND;TZID=America/New_York:20250211T213000
DTSTAMP:20260423T145539
CREATED:20250204T195002Z
LAST-MODIFIED:20250204T195002Z
UID:10007596-1739300400-1739309400@events.fitnyc.edu
SUMMARY:Justice Film Festival 2025: Session 3
DESCRIPTION:The Justice Film Festival showcases films that emphasize social justice and affirm the dignity of all people. Since 2012\, JFF has been committed to creating a platform for redemptive stories of marginalized people and ecosystems bravely overcoming challenges and bringing optimism\, empathy\, and light to a world in need of inspiration. \nFebruary 11: Session 3\, 7–9:30 pm \nKatie Murphy Amphitheatre \n\n7 pm: A Man With Sole: The Impact of Kenneth Cole\, followed by Q&A with six-time Tony Award–winning producer and director Dori Berinstein and film subject Kenneth Cole\n\nThe Social Justice Center at FIT is proud to partner with JFF for the portion of the festival taking place at the college\, February 10–12. Find the full schedule here. \nThe film festival is open to the public; it is a ticketed event.  \nAll events during the festival are free to all FIT students\, faculty\, and alumni. Use promo code FITFREE for ticketed events; tickets are available here. 
URL:https://events.fitnyc.edu/event/justice-film-festival-2025-session-3/
LOCATION:Katie Murphy Amphitheatre\, Pomerantz Art and Design Center\, Fashion Institute of Technology\, New York City\, NY\, United States
CATEGORIES:Film Screening,Public
ORGANIZER;CN="Social Justice Center at FIT":MAILTO:socialjusticecenter@fitnyc.edu
GEO:40.7127837;-74.0059413
X-APPLE-STRUCTURED-LOCATION;VALUE=URI;X-ADDRESS=Katie Murphy Amphitheatre Pomerantz Art and Design Center Fashion Institute of Technology New York City NY United States;X-APPLE-RADIUS=500;X-TITLE=Pomerantz Art and Design Center\, Fashion Institute of Technology:geo:-74.0059413,40.7127837
END:VEVENT
BEGIN:VEVENT
DTSTART;TZID=America/New_York:20250212T143000
DTEND;TZID=America/New_York:20250212T174500
DTSTAMP:20260423T145539
CREATED:20250204T200627Z
LAST-MODIFIED:20250204T200627Z
UID:10007597-1739370600-1739382300@events.fitnyc.edu
SUMMARY:Justice Film Festival 2025: Session 4
DESCRIPTION:From The Rink.\nThe Justice Film Festival showcases films that emphasize social justice and affirm the dignity of all people. Since 2012\, JFF has been committed to creating a platform for redemptive stories of marginalized people and ecosystems bravely overcoming challenges and bringing optimism\, empathy\, and light to a world in need of inspiration. \nFebruary 12: Session 4\, 2:30–5:45 pm \nFilm and Media Screening Room \n2:30 pm: Short Film Showcase \n\n[b]REACH\nA Good Day Will Come\nCall Me Shamsz\nCome and Save Me\nFireline\nGrave Hands\nOur Land\, Our Life\nThe Power to Rebuild\nThe Rink\nWood Hood\nYazidi\nThe 21\nTo Someone Like Me\n\n5 pm: Untouchable: Traffickers\, Buyers\, and the Kids They Exploit\, followed by Q&A with filmmaker Morgan Perry \nThe Social Justice Center at FIT is proud to partner with JFF for the portion of the festival taking place at the college\, February 10–12. Find the full schedule here. \nThe film festival is open to the public; it is a ticketed event.  \nAll events during the festival are free to all FIT students\, faculty\, and alumni. Use promo code FITFREE for ticketed events; tickets are available here. 
URL:https://events.fitnyc.edu/event/justice-film-festival-2025-session-4/
LOCATION:Film and Media Screening Room D207\, Pomerantz Center\, New York City \, NY\, United States
CATEGORIES:Film Screening,Public
ORGANIZER;CN="Social Justice Center at FIT":MAILTO:socialjusticecenter@fitnyc.edu
GEO:40.747025;-73.9941136
X-APPLE-STRUCTURED-LOCATION;VALUE=URI;X-ADDRESS=Film and Media Screening Room D207 Pomerantz Center New York City  NY United States;X-APPLE-RADIUS=500;X-TITLE=Pomerantz Center:geo:-73.9941136,40.747025
END:VEVENT
BEGIN:VEVENT
DTSTART;TZID=America/New_York:20250212T173000
DTEND;TZID=America/New_York:20250212T183000
DTSTAMP:20260423T145539
CREATED:20250131T181423Z
LAST-MODIFIED:20250131T181423Z
UID:10007590-1739381400-1739385000@events.fitnyc.edu
SUMMARY:Pamela James on The Three C's of Intelligent Fashion Design
DESCRIPTION:Join the library for an inspiring session with Pamela James\, the visionary founder of Paloma St. James and the bestselling author of The Guide to Luxury Modular Fashion. \nIn this engaging talk\, James will explore commerce and modularity\, circularity and sustainability\, and color theory to define how we think about luxury in fashion. \nIntelligent Fashion Design combines craftsmanship with intentional design\, offering garments that adapt to every mood\, need\, or occasion. It exceeds seasonal trends while embracing timeless elegance with a modern\, sophisticated perspective. \nThis event is for the FIT community only; REGISTER HERE. 
URL:https://events.fitnyc.edu/event/pamela-james-on-the-three-cs-of-intelligent-fashion-design/
LOCATION:Gladys Marcus Library\, Goodman Resource Center\, Room E435\, Fashion Institute of Technology\, New York City\, NY\, 10001\, United States
CATEGORIES:Lecture
ORGANIZER;CN="Jennifer Brady%2C Gladys Marcus Library":MAILTO:jennifer_brady@gmail.com
GEO:40.747025;-73.9941136
X-APPLE-STRUCTURED-LOCATION;VALUE=URI;X-ADDRESS=Gladys Marcus Library Goodman Resource Center Room E435 Fashion Institute of Technology New York City NY 10001 United States;X-APPLE-RADIUS=500;X-TITLE=Fashion Institute of Technology:geo:-73.9941136,40.747025
END:VEVENT
BEGIN:VEVENT
DTSTART;TZID=America/New_York:20250212T173000
DTEND;TZID=America/New_York:20250212T190000
DTSTAMP:20260423T145539
CREATED:20250204T212525Z
LAST-MODIFIED:20250204T212525Z
UID:10007599-1739381400-1739386800@events.fitnyc.edu
SUMMARY:Inside the Artist’s Studio: Adolphus Washington
DESCRIPTION:“Preamble Remixed\,” 2022\, by Adolphus Washington.\nJoin us for an engaging conversation and Q&A with the collagist Adolphus Washington as he delves into the creative process and celebrates the rich tapestry of Black narratives through the transformative art of collage. \nWashington is an award-winning collagist whose work explores the historical and contemporary social issues of the Black community\, capturing the journey\, culture\, and sensibility of the Black American experience. \nThis event is part of FIT’s 2025 Black History Month activities. Find out more at fitnyc.edu/blackhistory. \nThis event is for the FIT community only. 
URL:https://events.fitnyc.edu/event/inside-the-artists-studio-adolphus-washington/
LOCATION:Art and Design Gallery Studio\, Room D223\, Fashion Institute of Technology\, 227 West 27th Street\, New York\, NY\, 10001\, United States
CATEGORIES:Conversation
ORGANIZER;CN="Mary Capozzi":MAILTO:mary_capozzi@fitnyc.edu
END:VEVENT
BEGIN:VEVENT
DTSTART;TZID=America/New_York:20250212T180000
DTEND;TZID=America/New_York:20250212T210000
DTSTAMP:20260423T145539
CREATED:20250204T201704Z
LAST-MODIFIED:20250205T191003Z
UID:10007598-1739383200-1739394000@events.fitnyc.edu
SUMMARY:Justice Film Festival 2025: Session 5
DESCRIPTION:The Justice Film Festival showcases films that emphasize social justice and affirm the dignity of all people. Since 2012\, JFF has been committed to creating a platform for redemptive stories of marginalized people and ecosystems bravely overcoming challenges and bringing optimism\, empathy\, and light to a world in need of inspiration. \nFebruary 12: Session 5\, 6–9 pm \nKatie Murphy Amphitheatre \n\n6 pm: Adidas Owns the Reality\n6:45 pm: Let Them Be Naked\, followed by Q&A with director and designer Jeff Garner\n\nThe Social Justice Center at FIT is proud to partner with JFF for the portion of the festival taking place at the college\, February 10–12. Find the full schedule here. \nThe film festival is open to the public; it is a ticketed event.  \nAll events during the festival are free to all FIT students\, faculty\, and alumni. Use promo code FITFREE for ticketed events; tickets are available here. 
URL:https://events.fitnyc.edu/event/justice-film-festival-2025-session-5/
LOCATION:Katie Murphy Amphitheatre\, Pomerantz Art and Design Center\, Fashion Institute of Technology\, New York City\, NY\, United States
CATEGORIES:Film Screening,Public
ORGANIZER;CN="Social Justice Center at FIT":MAILTO:socialjusticecenter@fitnyc.edu
GEO:40.7127837;-74.0059413
X-APPLE-STRUCTURED-LOCATION;VALUE=URI;X-ADDRESS=Katie Murphy Amphitheatre Pomerantz Art and Design Center Fashion Institute of Technology New York City NY United States;X-APPLE-RADIUS=500;X-TITLE=Pomerantz Art and Design Center\, Fashion Institute of Technology:geo:-74.0059413,40.7127837
END:VEVENT
BEGIN:VEVENT
DTSTART;VALUE=DATE:20250213
DTEND;VALUE=DATE:20250214
DTSTAMP:20260423T145539
CREATED:20241122T165036Z
LAST-MODIFIED:20241122T165036Z
UID:10007544-1739404800-1739491199@events.fitnyc.edu
SUMMARY:Exhibition: City in Bloom: Rediscovering Nature's Fragments — Opens
DESCRIPTION:Story Stitchers Collective\, Peace in the Prairie\, 2022. (Video still).\nFebruary 13–March 25\, 2025\nArt and Design Gallery \nCity in Bloom is a meditation on the resilience of the human experience and the restorative capacity of nature within urban life. From the shaded elegance of tree-lined streets to the verdant sophistication of plants nurtured within apartments\, these moments of “urban nature” assert themselves to our advantage\, reminding city dwellers that serenity\, a sense of place within the infinite universe\, can be accessed simply by watching for owls in Central Park or pigeons on one’s own windowsill; beholding slivers of light\, cloud\, and sky between shimmery\, towering skyscrapers; listening for seagulls as one walks toward a lake or river\, then smelling the salty breeze floating across it. After all\, even in the most industrialized of spaces\, nature’s carefully calibrated biorhythms persist. \n\nAbout the Art and Design Gallery \nThe Art and Design Gallery brings together the work of FIT students\, faculty\, alumni\, and invited outside artists in every exhibition. The gallery\, located in the glass-walled lobby of FIT’s Pomerantz Center\, is a window into the college and a window out\, serving as a space to foster learning and innovation. \nThe gallery is open 9 am to 5 pm daily. \nThis exhibition is free and open to the public. 
URL:https://events.fitnyc.edu/event/exhibition-city-in-bloom-rediscovering-natures-fragments-opens/
LOCATION:Art and Design Gallery\, Pomerantz Center\, Fashion Institute of Technology\, 227 West 27th Street\, New York City\, NY\, 10001\, United States
CATEGORIES:Exhibition,Public
ORGANIZER;CN="Art and Design Gallery":MAILTO:gallery@fitnyc.edu
END:VEVENT
BEGIN:VEVENT
DTSTART;TZID=America/New_York:20250213T130000
DTEND;TZID=America/New_York:20250213T140000
DTSTAMP:20260423T145539
CREATED:20250129T180635Z
LAST-MODIFIED:20250129T180635Z
UID:10007582-1739451600-1739455200@events.fitnyc.edu
SUMMARY:Stagwell Internship Opportunity Information Session
DESCRIPTION:Career and Internship Services invites the community to an information session from Stagwell. Stagwell is a global marketing and communications holding company that drives creative\, data-driven\, and technology-led solutions to transform businesses and brand with over 70+ agencies in their network. \nJoin representatives from Stagwell to learn about their organization and their 2025 internship program. \nThis event is for the FIT community only; REGISTER HERE. 
URL:https://events.fitnyc.edu/event/stagwell-internship-opportunity-information-session/
LOCATION:Haft Theater\, Marvin Feldman Center\, New York City\, NY\, 10001\, United States
CATEGORIES:Information Session
ORGANIZER;CN="Career and Intership Services":MAILTO:career_internship@fitnyc.edu
GEO:40.747438;-73.9948482
X-APPLE-STRUCTURED-LOCATION;VALUE=URI;X-ADDRESS=Haft Theater Marvin Feldman Center New York City NY 10001 United States;X-APPLE-RADIUS=500;X-TITLE=Marvin Feldman Center:geo:-73.9948482,40.747438
END:VEVENT
BEGIN:VEVENT
DTSTART;TZID=America/New_York:20250213T130000
DTEND;TZID=America/New_York:20250213T143000
DTSTAMP:20260423T145539
CREATED:20250204T192149Z
LAST-MODIFIED:20250210T161852Z
UID:10007595-1739451600-1739457000@events.fitnyc.edu
SUMMARY:A Fireside Chat with Yoon of AMBUSH and UGG
DESCRIPTION:Get an inside look at the world of footwear design! The FIT DTech Lab is hosting a fireside chat featuring Yoon Ahn\, co-founder and creative director of AMBUSH\, discussing her newest collaboration with global brand UGG. \nMichael Ferraro\, executive director of the FIT DTech Lab\, will sit with Yoon Ahn to discuss inspiration\, design philosophy\, and vision for reimagining classic footwear silhouettes for a new generation. This collaboration between UGG and AMBUSH creates space to connect with the next generation of designers\, explore emerging technologies\, and engage a younger\, digitally savvy audience. The event will provide a valuable platform for student engagement and the exchange of innovative ideas\, ultimately benefiting FIT\, UGG\, and AMBUSH on the future of fashion. \nThere are UGG x AMBUSH gifts to give away to 25 students who attend the event! You must RSVP to qualify\, attend the full event\, and will receive an email if you are selected. Please be sure to check in and check out at the registration table. \nThis event is for FIT students only; REGISTER HERE.
URL:https://events.fitnyc.edu/event/a-fireside-chat-with-yoon-of-ambush-and-ugg/
LOCATION:Katie Murphy Amphitheatre\, Pomerantz Art and Design Center\, Fashion Institute of Technology\, New York City\, NY\, United States
CATEGORIES:Conversation
ORGANIZER;CN="FIT DTech Lab":MAILTO:michael_ferraro@fitnyc.edu
GEO:40.7127837;-74.0059413
X-APPLE-STRUCTURED-LOCATION;VALUE=URI;X-ADDRESS=Katie Murphy Amphitheatre Pomerantz Art and Design Center Fashion Institute of Technology New York City NY United States;X-APPLE-RADIUS=500;X-TITLE=Pomerantz Art and Design Center\, Fashion Institute of Technology:geo:-74.0059413,40.7127837
END:VEVENT
END:VCALENDAR