BEGIN:VCALENDAR
VERSION:2.0
PRODID:-//FIT Events - ECPv6.14.0//NONSGML v1.0//EN
CALSCALE:GREGORIAN
METHOD:PUBLISH
X-ORIGINAL-URL:https://events.fitnyc.edu
X-WR-CALDESC:Events for FIT Events
REFRESH-INTERVAL;VALUE=DURATION:PT1H
X-Robots-Tag:noindex
X-PUBLISHED-TTL:PT1H
BEGIN:VTIMEZONE
TZID:America/New_York
BEGIN:DAYLIGHT
TZOFFSETFROM:-0500
TZOFFSETTO:-0400
TZNAME:EDT
DTSTART:20250309T070000
END:DAYLIGHT
BEGIN:STANDARD
TZOFFSETFROM:-0400
TZOFFSETTO:-0500
TZNAME:EST
DTSTART:20251102T060000
END:STANDARD
END:VTIMEZONE
BEGIN:VEVENT
DTSTART;TZID=America/New_York:20250115T100000
DTEND;TZID=America/New_York:20250115T170000
DTSTAMP:20260420T225705
CREATED:20241202T175558Z
LAST-MODIFIED:20241202T175558Z
UID:10007547-1736935200-1736960400@events.fitnyc.edu
SUMMARY:CitySource 2025
DESCRIPTION:CitySource was started in 2011 to connect designers and small businesses with local fashion manufacturers in New York City. With the generous support of the Garment District Alliance\, FIT’s Center for Continuing and Professional Studies has produced an in-person trade show highlighting these factories and businesses within the Garment District. \nEach year\, the event brings a wide variety of vendors including pattern and sample makers\, production contractors\, marking and grading\, cutting\, printers\, pleating\, embroidery\, dyeing\, accessories\, trims\, fabrics\, leather\, knitters\, and design services. If you are looking for a small supplier or a full production shop\, CitySource provides all the resources to make fashion products locally. \nThis event is free and open to the public; REGISTER HERE. 
URL:https://events.fitnyc.edu/event/citysource-2025/
LOCATION:John E. Reeves Great Hall\, Conference Center\, Fashion Institute of Technology\, New York City\, NY\, 10001\, United States
CATEGORIES:Expo,Public
ORGANIZER;CN="Center for Continuing and Professional Studies":MAILTO:conted@fitnyc.edu
GEO:40.3046679;-73.9789587
X-APPLE-STRUCTURED-LOCATION;VALUE=URI;X-ADDRESS=John E. Reeves Great Hall Conference Center Fashion Institute of Technology New York City NY 10001 United States;X-APPLE-RADIUS=500;X-TITLE=Conference Center\, Fashion Institute of Technology:geo:-73.9789587,40.3046679
END:VEVENT
END:VCALENDAR