BEGIN:VCALENDAR
VERSION:2.0
PRODID:-//FIT Events - ECPv6.14.0//NONSGML v1.0//EN
CALSCALE:GREGORIAN
METHOD:PUBLISH
X-ORIGINAL-URL:https://events.fitnyc.edu
X-WR-CALDESC:Events for FIT Events
REFRESH-INTERVAL;VALUE=DURATION:PT1H
X-Robots-Tag:noindex
X-PUBLISHED-TTL:PT1H
BEGIN:VTIMEZONE
TZID:America/New_York
BEGIN:DAYLIGHT
TZOFFSETFROM:-0500
TZOFFSETTO:-0400
TZNAME:EDT
DTSTART:20240310T070000
END:DAYLIGHT
BEGIN:STANDARD
TZOFFSETFROM:-0400
TZOFFSETTO:-0500
TZNAME:EST
DTSTART:20241103T060000
END:STANDARD
END:VTIMEZONE
BEGIN:VEVENT
DTSTART;VALUE=DATE:20241201
DTEND;VALUE=DATE:20241202
DTSTAMP:20260423T145529
CREATED:20240918T172223Z
LAST-MODIFIED:20241101T135027Z
UID:10007505-1733011200-1733097599@events.fitnyc.edu
SUMMARY:Exhibition: Lighted Earth — Closes
DESCRIPTION:November 7–December 1\, 2024\nArt and Design Gallery \nLighted Earth is a collaboration between Graphic Design students at FIT and jewelry design students at the Institute of American Indian Arts (IAIA) in Santa Fe\, New Mexico. \nThe exhibition features student projects from IAIA’s jewelry class and will be shown alongside a documentary film being made by the film department at AIA that includes student interviews and insights on the collections from IAIA jewelry design faculty. FIT Graphic Design students developed the identity and interpretive materials for the exhibition. \nAbout the Art and Design Gallery \nThe Art and Design Gallery brings together the work of FIT students\, faculty\, alumni\, and invited outside artists in every exhibition. The gallery\, located in the glass-walled lobby of FIT’s Pomerantz Center\, is a window into the college and a window out\, serving as a space to foster learning and innovation. \nThe gallery is open 9 am to 5 pm daily. \nThis exhibition is free and open to the public. 
URL:https://events.fitnyc.edu/event/exhibition-lighted-earth-closes/
LOCATION:Art and Design Gallery\, Pomerantz Center\, Fashion Institute of Technology\, 227 West 27th Street\, New York City\, NY\, 10001\, United States
CATEGORIES:Exhibition,Public
ORGANIZER;CN="Art and Design Gallery":MAILTO:gallery@fitnyc.edu
END:VEVENT
BEGIN:VEVENT
DTSTART;VALUE=DATE:20241204
DTEND;VALUE=DATE:20241205
DTSTAMP:20260423T145529
CREATED:20241112T212203Z
LAST-MODIFIED:20241112T212203Z
UID:10007538-1733270400-1733356799@events.fitnyc.edu
SUMMARY:The Loop for Good 2024: Virtual Vogue — Closes
DESCRIPTION:November 4–December 4\, 2024\nFeldman Center Lobby \nFIT’s sixth annual Loop for Good project includes virtual try-ons (make a link) of student-designed sportswear\, couture garments\, scarves and handbags crafted as both physical pieces and 3-D models. A collegewide interdisciplinary experiential learning project focused on sustainability and technology\, Loop for Good showcases the potentials of emerging technologies for advancing environmental sustainability. \nThis exhibition is for the FIT community only.
URL:https://events.fitnyc.edu/event/the-loop-for-good-2024-virtual-vogue-closes/
LOCATION:Feldman Center Lobby\, Marvin Feldman Center\, New York City\, NY\, 10001\, United States
CATEGORIES:Exhibition
ORGANIZER;CN="Jennifer Lee":MAILTO:jennifer_lee5@fitnyc.edu
GEO:40.7473893;-73.9948645
X-APPLE-STRUCTURED-LOCATION;VALUE=URI;X-ADDRESS=Feldman Center Lobby Marvin Feldman Center New York City NY 10001 United States;X-APPLE-RADIUS=500;X-TITLE=Marvin Feldman Center:geo:-73.9948645,40.7473893
END:VEVENT
BEGIN:VEVENT
DTSTART;TZID=America/New_York:20241204T173000
DTEND;TZID=America/New_York:20241204T200000
DTSTAMP:20260423T145529
CREATED:20241121T210902Z
LAST-MODIFIED:20241122T203846Z
UID:10007543-1733333400-1733342400@events.fitnyc.edu
SUMMARY:Maintaining Your Creativity and Leadership in the Face of Commercial Pressures with Designer Edmundo Castillo
DESCRIPTION:The Social Justice Center at FIT invites you to bring your questions and sketch pad for this lively interactive conversation with Edmundo Castillo\, led by FIT President Joyce F. Brown. One of America’s leading footwear designers and Latinx creatives\, Castillo started his own eponymous brand and boutique before taking his talents to lead teams at Stuart Weitzman and Sergio Rossi. He has also worked with Donna Karan and Ralph Lauren. Castillo is both a CFDA and Fashion Group International award winner. \nDoors open and cocktails: 5:30 pm\nInteractive discussion: 6–7 pm\nNetworking reception and tapas: 7–8 pm \nThis event is sponsored by the Social Justice Center at FIT. Learn more at sjc.fitnyc.edu. \nThis event is free and open to the public; REGISTER HERE. 
URL:https://events.fitnyc.edu/event/maintaining-your-creativity-and-leadership-in-the-face-of-commercial-pressures-with-designer-edmundo-castillo/
LOCATION:Art and Design Gallery\, Pomerantz Center\, Fashion Institute of Technology\, 227 West 27th Street\, New York City\, NY\, 10001\, United States
CATEGORIES:Conversation,Public,Reception
ORGANIZER;CN="Social Justice Center at FIT":MAILTO:socialjusticecenter@fitnyc.edu
END:VEVENT
BEGIN:VEVENT
DTSTART;TZID=America/New_York:20241205T101500
DTEND;TZID=America/New_York:20241205T110000
DTSTAMP:20260423T145529
CREATED:20241127T172123Z
LAST-MODIFIED:20241127T215253Z
UID:10007546-1733393700-1733396400@events.fitnyc.edu
SUMMARY:FIT Board of Trustees Meeting
DESCRIPTION:The FIT Board of Trustees’ next meeting will be held in person on Thursday\, December 5\, 2024. \nExecutive session: 9:45 am\nPublic session: 10:15 am  \nThis event is open to the public.
URL:https://events.fitnyc.edu/event/fit-board-of-trustees-meeting-34/
LOCATION:Robert Lagary Board Room\, Marvin Feldman Center\, Ninth Floor\, Fashion Institute of Technology\, New York City \, NY\, United States
CATEGORIES:Meeting,Public
GEO:40.7127837;-74.0059413
X-APPLE-STRUCTURED-LOCATION;VALUE=URI;X-ADDRESS=Robert Lagary Board Room Marvin Feldman Center Ninth Floor Fashion Institute of Technology New York City  NY United States;X-APPLE-RADIUS=500;X-TITLE=Marvin Feldman Center\, Ninth Floor\, Fashion Institute of Technology:geo:-74.0059413,40.7127837
END:VEVENT
BEGIN:VEVENT
DTSTART;TZID=America/New_York:20241205T190000
DTEND;TZID=America/New_York:20241205T210000
DTSTAMP:20260423T145529
CREATED:20241118T212923Z
LAST-MODIFIED:20241118T213111Z
UID:10007540-1733425200-1733432400@events.fitnyc.edu
SUMMARY:FIT Theatre Club Presents: Big Love
DESCRIPTION:The FIT Theatre Club is excited to invite you to see our fall 2024 play\, Big Love by Charles Mee! \nBig Love is the definition of chaos\, with many highs and lows involving 50 sisters arranged to marry their 50 cousins …Yes\, 50. Collectively they decide that this is not the life they want\, so they flee from their home in Greece to the beautiful coastal waters of Italy. From there\, things take a bloody turn. \nBig Love will be shown on December 5\, 6\, and 7\, at 7 pm in the Katie Murphy Amphitheatre on the FIT campus. \nThis event is open to the public; it is free for FIT ID holders and pay-what-you-can for outside guests\, with a one-cent minimum. REGISTER FOR TICKETS ONLINE.
URL:https://events.fitnyc.edu/event/fit-theatre-club-presents-big-love/
LOCATION:Katie Murphy Amphitheatre\, Pomerantz Art and Design Center\, Fashion Institute of Technology\, New York City\, NY\, United States
CATEGORIES:Perfomance,Public
ORGANIZER;CN="FIT Theatre Club":MAILTO:theater_club@fitnyc.edu
GEO:40.7127837;-74.0059413
X-APPLE-STRUCTURED-LOCATION;VALUE=URI;X-ADDRESS=Katie Murphy Amphitheatre Pomerantz Art and Design Center Fashion Institute of Technology New York City NY United States;X-APPLE-RADIUS=500;X-TITLE=Pomerantz Art and Design Center\, Fashion Institute of Technology:geo:-74.0059413,40.7127837
END:VEVENT
BEGIN:VEVENT
DTSTART;TZID=America/New_York:20241206T190000
DTEND;TZID=America/New_York:20241206T210000
DTSTAMP:20260423T145529
CREATED:20241118T213059Z
LAST-MODIFIED:20241118T213059Z
UID:10007541-1733511600-1733518800@events.fitnyc.edu
SUMMARY:FIT Theatre Club Presents: Big Love
DESCRIPTION:The FIT Theatre Club is excited to invite you to see our fall 2024 play\, Big Love by Charles Mee! \nBig Love is the definition of chaos\, with many highs and lows involving 50 sisters arranged to marry their 50 cousins …Yes\, 50. Collectively they decide that this is not the life they want\, so they flee from their home in Greece to the beautiful coastal waters of Italy. From there\, things take a bloody turn. \nBig Love will be shown on December 5\, 6\, and 7\, at 7 pm in the Katie Murphy Amphitheatre on the FIT campus. \nThis event is open to the public; it is free for FIT ID holders and pay-what-you-can for outside guests\, with a one-cent minimum. REGISTER FOR TICKETS ONLINE.
URL:https://events.fitnyc.edu/event/fit-theatre-club-presents-big-love-2/
LOCATION:Katie Murphy Amphitheatre\, Pomerantz Art and Design Center\, Fashion Institute of Technology\, New York City\, NY\, United States
CATEGORIES:Perfomance,Public
ORGANIZER;CN="FIT Theatre Club":MAILTO:theater_club@fitnyc.edu
GEO:40.7127837;-74.0059413
X-APPLE-STRUCTURED-LOCATION;VALUE=URI;X-ADDRESS=Katie Murphy Amphitheatre Pomerantz Art and Design Center Fashion Institute of Technology New York City NY United States;X-APPLE-RADIUS=500;X-TITLE=Pomerantz Art and Design Center\, Fashion Institute of Technology:geo:-74.0059413,40.7127837
END:VEVENT
BEGIN:VEVENT
DTSTART;TZID=America/New_York:20241207T190000
DTEND;TZID=America/New_York:20241207T210000
DTSTAMP:20260423T145529
CREATED:20241118T213246Z
LAST-MODIFIED:20241118T213246Z
UID:10007542-1733598000-1733605200@events.fitnyc.edu
SUMMARY:FIT Theatre Club Presents: Big Love
DESCRIPTION:The FIT Theatre Club is excited to invite you to see our fall 2024 play\, Big Love by Charles Mee! \nBig Love is the definition of chaos\, with many highs and lows involving 50 sisters arranged to marry their 50 cousins …Yes\, 50. Collectively they decide that this is not the life they want\, so they flee from their home in Greece to the beautiful coastal waters of Italy. From there\, things take a bloody turn. \nBig Love will be shown on December 5\, 6\, and 7\, at 7 pm in the Katie Murphy Amphitheatre on the FIT campus. \nThis event is open to the public; it is free for FIT ID holders and pay-what-you-can for outside guests\, with a one-cent minimum. REGISTER FOR TICKETS ONLINE.
URL:https://events.fitnyc.edu/event/fit-theatre-club-presents-big-love-3/
LOCATION:Katie Murphy Amphitheatre\, Pomerantz Art and Design Center\, Fashion Institute of Technology\, New York City\, NY\, United States
CATEGORIES:Perfomance,Public
ORGANIZER;CN="FIT Theatre Club":MAILTO:theater_club@fitnyc.edu
GEO:40.7127837;-74.0059413
X-APPLE-STRUCTURED-LOCATION;VALUE=URI;X-ADDRESS=Katie Murphy Amphitheatre Pomerantz Art and Design Center Fashion Institute of Technology New York City NY United States;X-APPLE-RADIUS=500;X-TITLE=Pomerantz Art and Design Center\, Fashion Institute of Technology:geo:-74.0059413,40.7127837
END:VEVENT
END:VCALENDAR