BEGIN:VCALENDAR
VERSION:2.0
PRODID:-//FIT Events - ECPv6.14.0//NONSGML v1.0//EN
CALSCALE:GREGORIAN
METHOD:PUBLISH
X-WR-CALNAME:FIT Events
X-ORIGINAL-URL:https://events.fitnyc.edu
X-WR-CALDESC:Events for FIT Events
REFRESH-INTERVAL;VALUE=DURATION:PT1H
X-Robots-Tag:noindex
X-PUBLISHED-TTL:PT1H
BEGIN:VTIMEZONE
TZID:America/New_York
BEGIN:DAYLIGHT
TZOFFSETFROM:-0500
TZOFFSETTO:-0400
TZNAME:EDT
DTSTART:20230312T070000
END:DAYLIGHT
BEGIN:STANDARD
TZOFFSETFROM:-0400
TZOFFSETTO:-0500
TZNAME:EST
DTSTART:20231105T060000
END:STANDARD
END:VTIMEZONE
BEGIN:VEVENT
DTSTART;VALUE=DATE:20230910
DTEND;VALUE=DATE:20230911
DTSTAMP:20260423T125720
CREATED:20230717T200809Z
LAST-MODIFIED:20230717T200930Z
UID:10007328-1694304000-1694390399@events.fitnyc.edu
SUMMARY:Exhibition: Unconventional Then\, Now\, and Always: A Helix of FIT Influence from Max Meyer to Daria Dorosh — Closes
DESCRIPTION:August 3–September 10\, 2023\nArt and Design Gallery \nIn the early decades of the 20th century\, FIT founder and president Max Meyer (1876–1953)\, then a buyer for a major New York City cloak and suit manufacturer\, commissioned thousands of drawings of French couture designs to be licensed for production in the U.S. This exhibition juxtaposes a selection of these sublime watercolor and ink images from houses such as Chanel\, Poiret\, Molyneux\, Lanvin\, and Paquin with comparable examples of actual garments from the study collection of FIT’s graduate program in Fashion and Textile Studies: History\, Theory\, Museum Practice. Each garment showcases student and alumni skills in costume conservation and mounting. \nAn adjoining gallery features the work of alum and former professor Daria Dorosh\, PhD. Her contemporary art and fashion pieces respond to Meyer in many ways\, and also stand on their own. \nUnconventional Then\, Now\, and Always will feature innovative augmented reality displays that invite engagement. The show highlights the unique resource that is Gladys Marcus Library’s Special Collections and College Archives where the original sketches reside along with an astounding wealth of original materials related to the industry. \nThe show is a collaboration between the Spatial Experience Design Department\, Fashion and Textile Studies: History\, Theory\, Museum Practice\, and the Special Collections and College Archives. \n\nAbout the Art and Design Gallery \nThe Art and Design Gallery brings together FIT students\, faculty\, alumni\, and guest artists in each exhibition. The gallery\, located in the glass-walled lobby of FIT’s Pomerantz Center\, is a window into the college and a window out\, serving as a space to foster learning and innovation. \nThe gallery is open from 9 am to 6 pm daily. \nThis event is free and open to the public. 
URL:https://events.fitnyc.edu/event/exhibition-unconventional-then-now-and-always-a-helix-of-fit-influence-from-max-meyer-to-daria-dorosh-closes/
LOCATION:Art and Design Gallery\, Pomerantz Center\, Fashion Institute of Technology\, 227 West 27th Street\, New York City\, NY\, 10001\, United States
CATEGORIES:Exhibition,Public
ORGANIZER;CN="Art and Design Gallery":MAILTO:gallery@fitnyc.edu
END:VEVENT
BEGIN:VEVENT
DTSTART;TZID=America/New_York:20230912T190000
DTEND;TZID=America/New_York:20230912T200000
DTSTAMP:20260423T125720
CREATED:20230822T210137Z
LAST-MODIFIED:20230822T210137Z
UID:10007346-1694545200-1694548800@events.fitnyc.edu
SUMMARY:Fashion Design MFA Showcase 2023: Uni / versal
DESCRIPTION:FIT’s MFA in Fashion Design program is a creative laboratory where technology\, talent\, and inspiration intersect in one of the world’s premier fashion capitals. \nThe Fashion Design MFA 2023 graduating class will present their final thesis collections in a runway show during New York Fashion Week on September 12 at 7 pm at Spring Studios. \nThe theme\, UNI / VERSAL—”uni\,” derived from the Latin word “unus” meaning “one\,” and “versal\,” an archaic term for “entire” or “whole”—best represents this class’s individuality as well as its cohesiveness. \nJoin the livestream at 7 pm.  \nThe Fashion Design MFA Showcase is an invitation-only event; however\, it will be streamed live. 
URL:https://events.fitnyc.edu/event/fashion-design-mfa-showcase-2023-uni-versal/
CATEGORIES:Fashion Show,Online Event
END:VEVENT
BEGIN:VEVENT
DTSTART;VALUE=DATE:20230913
DTEND;VALUE=DATE:20230914
DTSTAMP:20260423T125720
CREATED:20230705T155029Z
LAST-MODIFIED:20230705T155029Z
UID:10007322-1694563200-1694649599@events.fitnyc.edu
SUMMARY:Exhibition: Food & Fashion — Opens
DESCRIPTION:Jeremy Scott for Moschino\, chocolate bar gown\, wool/silk and polyamide-nylon blend\, fall 2014\, Italy\, museum purchase\, 2019.55.1\nSeptember 13–November 26\, 2023\nSpecial Exhibitions Gallery\, The Museum at FIT \nFood and fashion are two modes of expression central to our daily lives. They address humankind’s most basic needs\, and also offer a significant window into our societies. The histories of food and fashion as consumer and cultural products have converged over the past three centuries. Fashion designers turn to food themes and motifs to comment on critical topics ranging from cultural identity to sustainability\, social activism\, and body politics\, to ideas related to femininity\, domesticity\, nostalgia\, and consumerism. \nFood & Fashion is a major exhibition exploring the relationship between these related topics. Featuring over 90 works\, it includes garments\, accessories\, and textiles by designers such as Chanel\, Delvaux\, Comme des Garçons\, Carla Fernandez\, Stella Jean\, Judith Leiber\, Issey Miyake\, William Morris\, Moschino\, Rick Owens\, Charles Frederick Worth\, and Jason Wu. Food and Fashion illuminates the dynamic relationship between these two mediums as expressed in fashion design. \nThis exhibition is free and open to the public; find details about visiting The Museum at FIT at fitnyc.edu/museum/visit.
URL:https://events.fitnyc.edu/event/exhibition-food-fashion-opens/
LOCATION:Special Exhibitions Gallery\, The Museum at FIT\, Fashion Institute of Technology\, New York City\, NY\, 10001\, United States
CATEGORIES:Exhibition,Public
ORGANIZER;CN="The Museum at FIT":MAILTO:museuminfo@fitnyc.edu
GEO:40.7536854;-73.9991637
X-APPLE-STRUCTURED-LOCATION;VALUE=URI;X-ADDRESS=Special Exhibitions Gallery The Museum at FIT Fashion Institute of Technology New York City NY 10001 United States;X-APPLE-RADIUS=500;X-TITLE=Fashion Institute of Technology:geo:-73.9991637,40.7536854
END:VEVENT
BEGIN:VEVENT
DTSTART;TZID=America/New_York:20230914T121500
DTEND;TZID=America/New_York:20230914T130000
DTSTAMP:20260423T125720
CREATED:20230815T204854Z
LAST-MODIFIED:20230815T210340Z
UID:10006822-1694693700-1694696400@events.fitnyc.edu
SUMMARY:Globally Connected 2023: Meet Our New Faculty—Part 1
DESCRIPTION:In this virtual event\, meet FIT’s new School of Liberal Arts and Sciences faculty members and learn about the global aspects of their research! \nAmanda Page-Hoongrajok is an assistant professor in the Department of Social Sciences in Science-Economics\, and holds a PhD from the University of Massachusetts Amherst and a master’s from Roosevelt University in Chicago. Her research focuses on the intersection of macroeconomic policy and state-local government finance. She is also interested in economic education and pedagogy. \nWalter Temple is an associate professor of French and Francophone Studies. Prior to joining the faculty at FIT\, he taught French and Francophone Studies in Washington\, D.C.\, Miami\, Detroit\, and Salt Lake City. In his scholarship\, he examines questions of identity as they relate to the marginalized traveler-writer. He also specializes in French and North African queer cinema. His work has been presented at conferences in Africa\, Australia\, Europe\, and North America. \nThis virtual event is free and open to the public; REGISTER HERE.
URL:https://events.fitnyc.edu/event/globally-connected-2023-meet-our-new-faculty-part-1/
CATEGORIES:Conversation,Public
ORGANIZER;CN="Office of International Programs":MAILTO:studyabroad@fitnyc.edu
END:VEVENT
BEGIN:VEVENT
DTSTART;VALUE=DATE:20230916
DTEND;VALUE=DATE:20230917
DTSTAMP:20260423T125720
CREATED:20230912T160019Z
LAST-MODIFIED:20230912T160019Z
UID:10007365-1694822400-1694908799@events.fitnyc.edu
SUMMARY:The Loop for Good: 2023 Annual Sustainable Design Exhibition — Opens
DESCRIPTION:September 16–October 15\, 2023\nThe Museum at FIT\, Gallery FIT \nFounded in 2019\, the Loop for Good is a collegewide interdisciplinary experiential learning project focused on sustainability and technology. This year’s exhibition celebrates the fifth anniversary of the Loop for Good. The exhibition theme is “Digital Athletes for Sportsmanship” to promote respect\, ethics\, and fellowship in a broader community. Each participating student artist integrated academic research\, creativity\, innovation\, digital design technologies\, and the art of physical craftsmanship into the presented work. \nFIT programs involved in the exhibition are: \n\nFashion Business Management\nTechnical Design\nCosmetics and Fragrance Marketing\nTextile Development and Marketing\nFootwear and Accessories Design\nTextile/Surface Design\nSpatial Experience Design\nJewelry Design\n\nThis exhibition is free and open to the public. 
URL:https://events.fitnyc.edu/event/the-loop-for-good-2023-annual-sustainable-design-exhibition-opens/
LOCATION:Gallery FIT\, The Museum at FIT\, Fashion Institute of Technology\, New York City\, NY\, 10001\, United States
CATEGORIES:Exhibition,Public
ORGANIZER;CN="Jennifer Lee":MAILTO:jennifer_lee5@fitnyc.edu
GEO:40.7536854;-73.9991637
X-APPLE-STRUCTURED-LOCATION;VALUE=URI;X-ADDRESS=Gallery FIT The Museum at FIT Fashion Institute of Technology New York City NY 10001 United States;X-APPLE-RADIUS=500;X-TITLE=Fashion Institute of Technology:geo:-73.9991637,40.7536854
END:VEVENT
END:VCALENDAR