BEGIN:VCALENDAR
VERSION:2.0
PRODID:-//FIT Events - ECPv6.14.0//NONSGML v1.0//EN
CALSCALE:GREGORIAN
METHOD:PUBLISH
X-ORIGINAL-URL:https://events.fitnyc.edu
X-WR-CALDESC:Events for FIT Events
REFRESH-INTERVAL;VALUE=DURATION:PT1H
X-Robots-Tag:noindex
X-PUBLISHED-TTL:PT1H
BEGIN:VTIMEZONE
TZID:America/New_York
BEGIN:DAYLIGHT
TZOFFSETFROM:-0500
TZOFFSETTO:-0400
TZNAME:EDT
DTSTART:20220313T070000
END:DAYLIGHT
BEGIN:STANDARD
TZOFFSETFROM:-0400
TZOFFSETTO:-0500
TZNAME:EST
DTSTART:20221106T060000
END:STANDARD
END:VTIMEZONE
BEGIN:VEVENT
DTSTART;VALUE=DATE:20221106
DTEND;VALUE=DATE:20221107
DTSTAMP:20260424T020828
CREATED:20220427T154439Z
LAST-MODIFIED:20220427T154439Z
UID:10006681-1667692800-1667779199@events.fitnyc.edu
SUMMARY:Exhibition: Dior + Balenciaga: The Kings of Couture and Their Legacies — Closes
DESCRIPTION:June 1–November 6\, 2022\nFashion and Textile History Gallery \nDior + Balenciaga: The Kings of Couture and Their Legacies features fashions by Christian Dior (1905–1957) and Cristóbal Balenciaga (1895–1972)\, the two most important couturiers of the mid-20th century. Featuring objects drawn solely from The Museum at FIT’s permanent collection\, this exhibition is the first to juxtapose the work of these legendary designers\, side by side. \nThis exhibition is free and open to the public. 
URL:https://events.fitnyc.edu/event/exhibition-dior-balenciaga-the-kings-of-couture-and-their-legacies-closes/
LOCATION:Fashion and Textile History Gallery\, The Museum at FIT\, Fashion Institute of Technology\, New York City\, NY\, 10001\, United States
CATEGORIES:Exhibition,Public
ORGANIZER;CN="The Museum at FIT":MAILTO:museuminfo@fitnyc.edu
GEO:40.7536854;-73.9991637
X-APPLE-STRUCTURED-LOCATION;VALUE=URI;X-ADDRESS=Fashion and Textile History Gallery The Museum at FIT Fashion Institute of Technology New York City NY 10001 United States;X-APPLE-RADIUS=500;X-TITLE=Fashion Institute of Technology:geo:-73.9991637,40.7536854
END:VEVENT
BEGIN:VEVENT
DTSTART;VALUE=DATE:20221106
DTEND;VALUE=DATE:20221107
DTSTAMP:20260424T020828
CREATED:20220916T163445Z
LAST-MODIFIED:20221011T132343Z
UID:10007231-1667692800-1667779199@events.fitnyc.edu
SUMMARY:Exhibition: Resurgence — Closes
DESCRIPTION:Resurgence\nOctober 10–November 6\nLobby and Gallery \nResurgence showcases the ingenuity of artisan work and hand-crafted objects from textiles\, jewelry\, and decorative accessories. Contributors to this show include FIT alumni\, faculty\, and students\, as well as finalists from the 2022 Global Eco Artisan Awards\, a recognition given by the AGAATI Foundation. The unique pieces highlight FIT’s hands-on curriculum and represent how mastering artisanship can lead to successful entrepreneurship. Many of the Global Eco Artisan finalists are informally trained artisans who learned their expertise through generations of family or regional craft practices. The exhibition celebrates the diversity of craft from around the globe and displays the unique way that artists master technique\, material\, and design. \nThe exhibition is curated by Nomi Kleinman\, chair of Textile/Surface Design\, in collaboration with Sarah Mullins\, chair of Footwear and Accessories Design\, and the AGAATI Foundation\, a nonprofit committed to celebrating creativity and artisan-made craft.  \nThe contributors from the FIT community are drawn from Footwear and Accessories Design\, Jewelry Design\, and Textile/Surface Design departments. The AGAATI Foundation organizes and sponsors the Global Eco Artisan Awards.  \nParticipating artists \nAndrea Alexander\, Karen Bachmann\, Aigul Bedelbayeva\, Brandon Brown\, Anne Marika Verploegh Chassé\, Sebastien Courty\, Olivia Garip Davies\, Emmaline Delillo\, Ryan Flynn\, Frank Fraley\, Kate Hedrick\, Deborah Hernandez\, JooWon Kim\, Rebekah Laskin\, Dwinisa Makes\, Lane Markulis\, Mariah McKenzie\, Indiana Moe\, Ruka Mustapha-Widmer\, Eric Noll\, Lana Ogilvie\, Kristin Paige\, Shelley Parker\, Steven Parker\, Margaret Peot\, Stephanie Pinero\, William Pounds\, Alexander Proprios\, Arianna Rahimi\, Satoko\, Hannah Schutz\, Tammi Williams\, Wendy Yothers\, Jasmin Zorlu\, and the finalists from the Global Eco Artisan Awards 2022 \nThis exhibition is free and open to the public. 
URL:https://events.fitnyc.edu/event/exhibition-resurgence-closes/
LOCATION:Art and Design Gallery\, Pomerantz Center\, Fashion Institute of Technology\, 227 West 27th Street\, New York City\, NY\, 10001\, United States
CATEGORIES:Exhibition,Public
ORGANIZER;CN="Art and Design Gallery":MAILTO:gallery@fitnyc.edu
END:VEVENT
BEGIN:VEVENT
DTSTART;TZID=America/New_York:20221107T161000
DTEND;TZID=America/New_York:20221107T173000
DTSTAMP:20260424T020828
CREATED:20220912T204332Z
LAST-MODIFIED:20220912T204332Z
UID:10006710-1667837400-1667842200@events.fitnyc.edu
SUMMARY:Faces and Places in Fashion: Malcolm Crews
DESCRIPTION:Malcolm Crews\, design director of men’s graphics at Tommy Hilfiger\, will be the guest at this week’s Faces and Places in Fashion. The Faces and Places in Fashion lecture series is a forum for prominent fashion professionals to discuss their trade\, experience\, and perspective on the business. \nFind more details and the full fall schedule on the Faces and Places website.  \nFaces and Places lectures are free and open to the public.
URL:https://events.fitnyc.edu/event/faces-and-places-in-fashion-malcolm-crews/
LOCATION:Katie Murphy Amphitheatre\, Pomerantz Art and Design Center\, Fashion Institute of Technology\, New York City\, NY\, United States
CATEGORIES:Lecture,Public
ORGANIZER;CN="Caroline Gordon":MAILTO:caroline_organisciak@fitnyc.edu
GEO:40.7127837;-74.0059413
X-APPLE-STRUCTURED-LOCATION;VALUE=URI;X-ADDRESS=Katie Murphy Amphitheatre Pomerantz Art and Design Center Fashion Institute of Technology New York City NY United States;X-APPLE-RADIUS=500;X-TITLE=Pomerantz Art and Design Center\, Fashion Institute of Technology:geo:-74.0059413,40.7127837
END:VEVENT
BEGIN:VEVENT
DTSTART;TZID=America/New_York:20221108T190000
DTEND;TZID=America/New_York:20221108T210000
DTSTAMP:20260424T020828
CREATED:20220920T151232Z
LAST-MODIFIED:20220920T153840Z
UID:10007235-1667934000-1667941200@events.fitnyc.edu
SUMMARY:Fashion Culture Event: Dance\, NYC Street Style\, and Hip Hop
DESCRIPTION:Image courtesy of KR3T’s.\nJoin choreographers from the Hip Hop Dance Conservatory (H+) and Keep Rising to the Top (KR3T’s) together with FIT professor Elena Romero\, who will discuss the evolution of hip hop style—from authentic NYC street style to what is now a more intentional representation of that style. H+ and KR3T’s support young dancers as they prepare for a career in the performing arts. Professor Romero has a long career in fashion journalism and is co-curator of an upcoming exhibition at The Museum at FIT on hip hop style. This event is organized by the Apollo and The Museum at FIT in preparation for the exhibition Fresh\, Fly\, and Fabulous: Fifty Years of Hip Hop Style\, slated to open at The Museum at FIT in 2023\, and as part of the Apollo’s Live Wire series. \nNote: This event will be held at the Apollo Sound Stage at 253 West 125th Street in New York City.  \nThis event is made possible with the support of the New York State Council on the Arts with the support of the Office of the Governor and the New York State Legislature. \nAbout Fashion Culture Programs \nFashion Culture programs are organized by The Museum at FIT to provide new perspectives on the culture of fashion. All programs are free unless otherwise indicated. However\, reservations are strongly encouraged\, as space is limited. See a full calendar of fall 2022 Fashion Culture Program events on the museum website. \nThis event is free and open to the public; register for the event here. 
URL:https://events.fitnyc.edu/event/fashion-culture-event-dance-nyc-street-style-and-hip-hop/
LOCATION:Apollo Theater\, 253 West 125th Street\, New York\, NY\, 10027\, United States
CATEGORIES:Panel Discussion,Public
ORGANIZER;CN="The Museum at FIT":MAILTO:museuminfo@fitnyc.edu
END:VEVENT
BEGIN:VEVENT
DTSTART;TZID=America/New_York:20221109T093000
DTEND;TZID=America/New_York:20221109T110000
DTSTAMP:20260424T020828
CREATED:20221028T202018Z
LAST-MODIFIED:20221107T193529Z
UID:10006732-1667986200-1667991600@events.fitnyc.edu
SUMMARY:Talking Trade at FIT: The ESG Challenge
DESCRIPTION:Global brands have had to consistently navigate the protocols\, cultures\, and shifting legal sands upon which these international trade and marketing realities have precariously\, albeit successfully\, functioned. ESG (environmental\, social\, and governance) has thrust upon us demanding and disruptive protocols\, insisting on displacing traditional ways of thinking\, and their time-tested norms. As change is challenging and uncertainty often follows\, one inevitability is the need to solve our problems by developing new modes of thinking\, opening up to previously unimaginable business strategies\, and designing new\, yet untested\, business models. To manage these outcomes we need to drill down into the bedrock issues that all global brands must manage. \nThe forum will offer insights and strategies on these four bedrock issues\, regulatory challenges to global trade from ESG and Intellectual Property standards\, reconciling ESG with business growth and revenue objectives\, avoiding greenwashing in global ESG advertising and marketing\, and protecting brand integrity by leading ESG with company values. \nPanelists: \nSydney Price\, Founder and CEO\, The Knew Purpose (TKP)\nPamela Church\, Partner and Head of IP\, Baker & McKenzie LLP\nGian Mario Borney\, Worldwide Strategy Executive\, Advisor\, and Educator of Fashion and Luxury Management; Strategic Business Development\, and Strategic Alliances \nModerator: Bill D’Arienzo\, Founder\, WDA Brand Strategies Management \nThis virtual event is free and open to the public; join the Webex event here and use password: G2crUZig4S4
URL:https://events.fitnyc.edu/event/talking-trade-at-fit-the-esg-challenge/
CATEGORIES:Online Event,Panel Discussion,Public
ORGANIZER;CN="Christine Pomeranz":MAILTO:christine_pomeranz@fitnyc.edu
END:VEVENT
BEGIN:VEVENT
DTSTART;TZID=America/New_York:20221110T090000
DTEND;TZID=America/New_York:20221110T160000
DTSTAMP:20260424T020828
CREATED:20221103T170232Z
LAST-MODIFIED:20221107T151948Z
UID:10006735-1668070800-1668096000@events.fitnyc.edu
SUMMARY:2022 Apparel Importers Trade and Transportation Conference
DESCRIPTION:The United States Fashion Industry Association (USFIA) invites you to the 34th Annual Apparel Importers Trade and Transportation Conference in New York City\, where we will discuss the trade\, transportation\, and compliance challenges for fashion brands and retailers today. More details on the conference website.  \nHosted by the Jay and Patty Baker School of Business and Technology. \nThis event is free for members of the FIT community; please RSVP here with your FIT email. Note: the lunch and cocktail reception are not included; they are private events.
URL:https://events.fitnyc.edu/event/2022-apparel-importers-trade-and-transportation-conference/
LOCATION:Katie Murphy Amphitheatre\, Pomerantz Art and Design Center\, Fashion Institute of Technology\, New York City\, NY\, United States
CATEGORIES:Conference,Public
GEO:40.7127837;-74.0059413
X-APPLE-STRUCTURED-LOCATION;VALUE=URI;X-ADDRESS=Katie Murphy Amphitheatre Pomerantz Art and Design Center Fashion Institute of Technology New York City NY United States;X-APPLE-RADIUS=500;X-TITLE=Pomerantz Art and Design Center\, Fashion Institute of Technology:geo:-74.0059413,40.7127837
END:VEVENT
BEGIN:VEVENT
DTSTART;TZID=America/New_York:20221110T110000
DTEND;TZID=America/New_York:20221110T140000
DTSTAMP:20260424T020828
CREATED:20221028T210254Z
LAST-MODIFIED:20221028T210254Z
UID:10006733-1668078000-1668088800@events.fitnyc.edu
SUMMARY:Sustainability Flea Market
DESCRIPTION:By hosting this outdoor flea market\, the Sustainability Committee of the FIT Student Government Association aims to spread awareness about the fragility of the environment and the importance of its protection\, thinking in terms of ecological consciousness and how it relates to the fashion industry. \nThe flea showcases a diverse collective of FIT student businesses\, creatives\, and entrepreneurs that are making strides toward a more sustainable industry and campus community. Among the items for sale will be vintage and handmade goods and thrifted finds. \nThis event is free and open to the public. 
URL:https://events.fitnyc.edu/event/sustainability-flea-market/
LOCATION:Breezeway\, between Business and Liberal Arts Center and Dubinsky Student Center\, Fashion Institute of Technology\, New York City \, NY\, United States
CATEGORIES:bazaar,Public
ORGANIZER;CN="FIT Student Government Association":MAILTO:fitstudentgov@fitnyc.edu
GEO:40.7127837;-74.0059413
X-APPLE-STRUCTURED-LOCATION;VALUE=URI;X-ADDRESS=Breezeway between Business and Liberal Arts Center and Dubinsky Student Center Fashion Institute of Technology New York City  NY United States;X-APPLE-RADIUS=500;X-TITLE=Fashion Institute of Technology:geo:-74.0059413,40.7127837
END:VEVENT
BEGIN:VEVENT
DTSTART;VALUE=DATE:20221112
DTEND;VALUE=DATE:20221113
DTSTAMP:20260424T020828
CREATED:20221012T145053Z
LAST-MODIFIED:20221014T205911Z
UID:10007240-1668211200-1668297599@events.fitnyc.edu
SUMMARY:Fall 2022 Open House
DESCRIPTION:The Fall 2022 Open House is designed for prospective undergraduate students who are interested in learning more about FIT. \nOpen House dates (register here): \n\nSaturday\, November 12\, 2022: School of Art and Design\nSunday\, November 13\, 2022: School of Business and Technology; School of Liberal Arts and Sciences\n\nJoin us on campus in NYC: \n\nJoin a major-specific session hosted by a faculty member from our School of Art and Design\, School of Liberal Arts\, or the Jay and Patty Baker School of Business and Technology\nAttend a live session with department representatives from across the college including Admissions\,\nFinancial Aid\, Academic Advisement\, Student Life\, and much more\nAttend presentations from our President\, Deans\, and Directors\nTake a tour of our campus\, including our four residence halls\nVisit key sites in our neighborhood and around New York City\n\nThese events are free and open to the public. Registration details here. 
URL:https://events.fitnyc.edu/event/fall-2022-open-house/
LOCATION:Fashion Institute of Technology\, 227 West 27th Street\, New York\, NY\, 10001\, United States
CATEGORIES:Open House,Public
ORGANIZER;CN="Office of Admissions":MAILTO:FITinfo@fitnyc.edu
GEO:40.7476706;-73.9953991
X-APPLE-STRUCTURED-LOCATION;VALUE=URI;X-ADDRESS=Fashion Institute of Technology 227 West 27th Street New York NY 10001 United States;X-APPLE-RADIUS=500;X-TITLE=227 West 27th Street:geo:-73.9953991,40.7476706
END:VEVENT
END:VCALENDAR