BEGIN:VCALENDAR
VERSION:2.0
PRODID:-//FIT Events - ECPv6.14.0//NONSGML v1.0//EN
CALSCALE:GREGORIAN
METHOD:PUBLISH
X-ORIGINAL-URL:https://events.fitnyc.edu
X-WR-CALDESC:Events for FIT Events
REFRESH-INTERVAL;VALUE=DURATION:PT1H
X-Robots-Tag:noindex
X-PUBLISHED-TTL:PT1H
BEGIN:VTIMEZONE
TZID:America/New_York
BEGIN:DAYLIGHT
TZOFFSETFROM:-0500
TZOFFSETTO:-0400
TZNAME:EDT
DTSTART:20260308T070000
END:DAYLIGHT
BEGIN:STANDARD
TZOFFSETFROM:-0400
TZOFFSETTO:-0500
TZNAME:EST
DTSTART:20261101T060000
END:STANDARD
END:VTIMEZONE
BEGIN:VEVENT
DTSTART;TZID=America/New_York:20260205T180000
DTEND;TZID=America/New_York:20260205T200000
DTSTAMP:20260419T153154
CREATED:20260120T170244Z
LAST-MODIFIED:20260123T190540Z
UID:10007846-1770314400-1770321600@events.fitnyc.edu
SUMMARY:Fly Girls: Women\, Hip Hop\, and the Power of Style
DESCRIPTION:From oversized gold nameplate chains to bamboo hoop earrings\, women in hip hop have long crafted a visual language of empowerment. Join us for a powerful conversation about Fly Girls\, aimed to not only celebrate fashion and style\, but also to spark dialogue about race\, gender\, identity\, and self-expression. \nJoin us for a panel discussion with: \n\nNadirah Simmons\, author\, First Things First: Hop-Hop Ladies Who Changed the Game\nApril Walker\, designer and founder\, Walker Wear\nToni Grant\, founder\, Haus of Swag\nShara McHayle\, founder\, Hoop 88 Dreams\nModerated by: Elena Romero\, curator\, Fly Girl\n\nThis event is free and open to the public. 
URL:https://events.fitnyc.edu/event/fly-girls-women-hip-hop-and-the-power-of-style/
LOCATION:Katie Murphy Amphitheatre\, Pomerantz Art and Design Center\, Fashion Institute of Technology\, New York City\, NY\, United States
CATEGORIES:Panel Discussion,Public
ATTACH;FMTTYPE=image/jpeg:https://events.fitnyc.edu/wp-content/uploads/2026/01/Girl-Power.jpg
ORGANIZER;CN="Jennifer Brady%2C Gladys Marcus Library":MAILTO:jennifer_brady@gmail.com
GEO:40.7127837;-74.0059413
X-APPLE-STRUCTURED-LOCATION;VALUE=URI;X-ADDRESS=Katie Murphy Amphitheatre Pomerantz Art and Design Center Fashion Institute of Technology New York City NY United States;X-APPLE-RADIUS=500;X-TITLE=Pomerantz Art and Design Center\, Fashion Institute of Technology:geo:-74.0059413,40.7127837
END:VEVENT
END:VCALENDAR