BEGIN:VCALENDAR
VERSION:2.0
PRODID:-//FIT Events - ECPv6.14.0//NONSGML v1.0//EN
CALSCALE:GREGORIAN
METHOD:PUBLISH
X-ORIGINAL-URL:https://events.fitnyc.edu
X-WR-CALDESC:Events for FIT Events
REFRESH-INTERVAL;VALUE=DURATION:PT1H
X-Robots-Tag:noindex
X-PUBLISHED-TTL:PT1H
BEGIN:VTIMEZONE
TZID:America/New_York
BEGIN:DAYLIGHT
TZOFFSETFROM:-0500
TZOFFSETTO:-0400
TZNAME:EDT
DTSTART:20250309T070000
END:DAYLIGHT
BEGIN:STANDARD
TZOFFSETFROM:-0400
TZOFFSETTO:-0500
TZNAME:EST
DTSTART:20251102T060000
END:STANDARD
END:VTIMEZONE
BEGIN:VEVENT
DTSTART;TZID=America/New_York:20250520T180000
DTEND;TZID=America/New_York:20250520T200000
DTSTAMP:20260423T015959
CREATED:20250110T180715Z
LAST-MODIFIED:20250509T104717Z
UID:10007556-1747764000-1747771200@events.fitnyc.edu
SUMMARY:2025 School of Graduate Studies Commencement and Hooding Ceremony
DESCRIPTION:FIT is pleased to announce commencement exercises for all master’s degree candidates in the School of Graduate Studies. \nTuesday\, May 20\, 6 pm \nMorris W. and Fannie B. Haft Theater  \nDoors open at 5 pm. \nA reception will follow on the Breezeway. \nCommencement is a ticketed event. \nVisit fitnyc.edu/sgscommencement for more information.
URL:https://events.fitnyc.edu/event/2025-school-of-graduate-studies-commencement-and-hooding-ceremony/
LOCATION:Haft Theater\, Marvin Feldman Center\, New York City\, NY\, 10001\, United States
CATEGORIES:Ceremony
GEO:40.747438;-73.9948482
X-APPLE-STRUCTURED-LOCATION;VALUE=URI;X-ADDRESS=Haft Theater Marvin Feldman Center New York City NY 10001 United States;X-APPLE-RADIUS=500;X-TITLE=Marvin Feldman Center:geo:-73.9948482,40.747438
END:VEVENT
BEGIN:VEVENT
DTSTART;VALUE=DATE:20250521
DTEND;VALUE=DATE:20250522
DTSTAMP:20260423T015959
CREATED:20250110T173949Z
LAST-MODIFIED:20250110T173949Z
UID:10007554-1747785600-1747871999@events.fitnyc.edu
SUMMARY:2025 Commencement
DESCRIPTION:FIT is pleased to announce commencement exercises for all associate and baccalaureate degree candidates. \nSix ceremonies will be held over two days: \nWednesday\, May 21: 10 am\, 1:15 pm\, and 4:30 pm\nThursday\, May 22: 10 am\, 1:15 pm\, and 4:30 pm \nCentral Park’s Rumsey Playfield\nFifth Avenue at 69th Street\nNew York\, New York \nCommencement is a ticketed event. \nVisit fitnyc.edu/commencement for more information.
URL:https://events.fitnyc.edu/event/2025-commencement/
LOCATION:Rumsey Playfield in Central Park\, Fifth Avenue and 69th Street\, New York City\, New York\, 10021
CATEGORIES:Ceremony
END:VEVENT
BEGIN:VEVENT
DTSTART;VALUE=DATE:20250522
DTEND;VALUE=DATE:20250523
DTSTAMP:20260423T015959
CREATED:20250110T174045Z
LAST-MODIFIED:20250110T174045Z
UID:10007555-1747872000-1747958399@events.fitnyc.edu
SUMMARY:2025 Commencement
DESCRIPTION:FIT is pleased to announce commencement exercises for all associate and baccalaureate degree candidates. \nSix ceremonies will be held over two days: \nWednesday\, May 21: 10 am\, 1:15 pm\, and 4:30 pm\nThursday\, May 22: 10 am\, 1:15 pm\, and 4:30 pm \nCentral Park’s Rumsey Playfield\nFifth Avenue at 69th Street\nNew York\, New York \nCommencement is a ticketed event. \nVisit fitnyc.edu/commencement for more information.
URL:https://events.fitnyc.edu/event/2025-commencement-2/
LOCATION:Rumsey Playfield in Central Park\, Fifth Avenue and 69th Street\, New York City\, New York\, 10021
CATEGORIES:Ceremony
END:VEVENT
END:VCALENDAR