BEGIN:VCALENDAR
VERSION:2.0
PRODID:-//FIT Events - ECPv6.14.0//NONSGML v1.0//EN
CALSCALE:GREGORIAN
METHOD:PUBLISH
X-ORIGINAL-URL:https://events.fitnyc.edu
X-WR-CALDESC:Events for FIT Events
REFRESH-INTERVAL;VALUE=DURATION:PT1H
X-Robots-Tag:noindex
X-PUBLISHED-TTL:PT1H
BEGIN:VTIMEZONE
TZID:America/New_York
BEGIN:DAYLIGHT
TZOFFSETFROM:-0500
TZOFFSETTO:-0400
TZNAME:EDT
DTSTART:20260308T070000
END:DAYLIGHT
BEGIN:STANDARD
TZOFFSETFROM:-0400
TZOFFSETTO:-0500
TZNAME:EST
DTSTART:20261101T060000
END:STANDARD
END:VTIMEZONE
BEGIN:VEVENT
DTSTART;TZID=America/New_York:20260423T094500
DTEND;TZID=America/New_York:20260423T113000
DTSTAMP:20260423T170622
CREATED:20260416T201404Z
LAST-MODIFIED:20260416T201404Z
UID:10007951-1776937500-1776943800@events.fitnyc.edu
SUMMARY:FIT Board of Trustees Meeting
DESCRIPTION:The FIT Board of Trustees’ and FIT Student Housing Corporation Board of Directors’ next meeting will be held in person on Thursday\, April 23\, 2026. \nPublic session: 9:45 am\nExecutive session: 11:30 am* \n* The Board of Trustees executive session will be closed to the public for discussion of personnel matters. At the conclusion of the session\, the public meeting will resume for the purpose of closing the trustees’ board meeting. The meeting of the FIT Student Housing Corporation will immediately follow the adjournment of the FIT trustees meeting. \nThis event is open to the public.
URL:https://events.fitnyc.edu/event/fit-board-of-trustees-meeting-38/
LOCATION:Robert Lagary Board Room\, Marvin Feldman Center\, Ninth Floor\, Fashion Institute of Technology\, New York City \, NY\, United States
CATEGORIES:Meeting,Public
ATTACH;FMTTYPE=image/png:https://events.fitnyc.edu/wp-content/uploads/2026/04/Screen-Shot-2026-04-16-at-4.00.59-PM.png
GEO:40.7127837;-74.0059413
X-APPLE-STRUCTURED-LOCATION;VALUE=URI;X-ADDRESS=Robert Lagary Board Room Marvin Feldman Center Ninth Floor Fashion Institute of Technology New York City  NY United States;X-APPLE-RADIUS=500;X-TITLE=Marvin Feldman Center\, Ninth Floor\, Fashion Institute of Technology:geo:-74.0059413,40.7127837
END:VEVENT
END:VCALENDAR