BEGIN:VCALENDAR
VERSION:2.0
PRODID:-//FIT Events - ECPv6.14.0//NONSGML v1.0//EN
CALSCALE:GREGORIAN
METHOD:PUBLISH
X-WR-CALNAME:FIT Events
X-ORIGINAL-URL:https://events.fitnyc.edu
X-WR-CALDESC:Events for FIT Events
REFRESH-INTERVAL;VALUE=DURATION:PT1H
X-Robots-Tag:noindex
X-PUBLISHED-TTL:PT1H
BEGIN:VTIMEZONE
TZID:America/New_York
BEGIN:DAYLIGHT
TZOFFSETFROM:-0500
TZOFFSETTO:-0400
TZNAME:EDT
DTSTART:20260308T070000
END:DAYLIGHT
BEGIN:STANDARD
TZOFFSETFROM:-0400
TZOFFSETTO:-0500
TZNAME:EST
DTSTART:20261101T060000
END:STANDARD
END:VTIMEZONE
BEGIN:VEVENT
DTSTART;TZID=America/New_York:20260203T120000
DTEND;TZID=America/New_York:20260203T130000
DTSTAMP:20260422T235107
CREATED:20260202T145701Z
LAST-MODIFIED:20260202T164423Z
UID:10007855-1770120000-1770123600@events.fitnyc.edu
SUMMARY:Diversity Grant Virtual Workshop
DESCRIPTION:Please join us on Tuesday\, February 3\, at noon for a one-hour FIT Diversity Grant workshop. Taking part in a workshop is mandatory for those who wish to submit a Diversity Grant proposal. \nWe hope to be able to share information which help you coordinate of many crucial activities of grant writing such as: \n\nDetermining the purpose of your project\, why is it important and who is your intended audience.\nThoughtfully creating a reasonable budget that supports the key priorities for your proposal.\nDefining and detailing how your proposal request relates to the objectives of Diversity\, Equity and Inclusion at FIT.\n\nPlease email Nina_Conroy@fitnyc.edu to sign up. The link for the workshop will be emailed to you upon your registration. \nThis event is for the FIT community only. 
URL:https://events.fitnyc.edu/event/diversity-grant-virtual-workshop/
LOCATION:Virtual event
CATEGORIES:Online Event,Workshop
ATTACH;FMTTYPE=image/jpeg:https://events.fitnyc.edu/wp-content/uploads/2026/02/unnamed-54.jpg
END:VEVENT
BEGIN:VEVENT
DTSTART;TZID=America/New_York:20260212T130000
DTEND;TZID=America/New_York:20260212T140000
DTSTAMP:20260422T235107
CREATED:20260122T183431Z
LAST-MODIFIED:20260122T183431Z
UID:10007851-1770901200-1770904800@events.fitnyc.edu
SUMMARY:From Application to Offer: How to Tell Your Story and Get Hired With Confidence
DESCRIPTION:Join our guest speaker and Career Coach Julie Gartell from Career Prep Solutions for an interactive workshop covering resumes\, LinkedIn\, interviews\, networking\, and salary negotiation. \nDon’t miss this unique opportunity to ask an expert all your questions about entering the workforce! \nThis event is for the FIT community only. \n REGISTER VIA THE CSJB
URL:https://events.fitnyc.edu/event/from-application-to-offer-how-to-tell-your-story-and-get-hired-with-confidence/
LOCATION:Katie Murphy Amphitheatre\, Pomerantz Art and Design Center\, Fashion Institute of Technology\, New York City\, NY\, United States
CATEGORIES:Workshop
ATTACH;FMTTYPE=image/png:https://events.fitnyc.edu/wp-content/uploads/2025/04/CIS-logo-400x220-1.png
ORGANIZER;CN="Career and Intership Services":MAILTO:career_internship@fitnyc.edu
GEO:40.7127837;-74.0059413
X-APPLE-STRUCTURED-LOCATION;VALUE=URI;X-ADDRESS=Katie Murphy Amphitheatre Pomerantz Art and Design Center Fashion Institute of Technology New York City NY United States;X-APPLE-RADIUS=500;X-TITLE=Pomerantz Art and Design Center\, Fashion Institute of Technology:geo:-74.0059413,40.7127837
END:VEVENT
BEGIN:VEVENT
DTSTART;TZID=America/New_York:20260213T120000
DTEND;TZID=America/New_York:20260213T130000
DTSTAMP:20260422T235107
CREATED:20260210T182057Z
LAST-MODIFIED:20260210T182057Z
UID:10007872-1770984000-1770987600@events.fitnyc.edu
SUMMARY:Diversity Grant Virtual Workshop
DESCRIPTION:Please join us on Friday\, February 13\, at noon for a virtual one-hour FIT Diversity Grant workshop. Taking part in a workshop is mandatory for those who wish to submit a Diversity Grant proposal. \nWe hope to be able to share information which help you coordinate of many crucial activities of grant writing such as: \n\nDetermining the purpose of your project\, why is it important and who is your intended audience.\nThoughtfully creating a reasonable budget that supports the key priorities for your proposal.\nDefining and detailing how your proposal request relates to the objectives of Diversity\, Equity and Inclusion at FIT.\n\nPlease email Nina_Conroy@fitnyc.edu to sign up. The link for the workshop will be emailed to you upon your registration. \nThis virtual event is for the FIT community only. 
URL:https://events.fitnyc.edu/event/diversity-grant-virtual-workshop-2/
LOCATION:Virtual event
CATEGORIES:Employee Events,Online Event,Workshop
END:VEVENT
BEGIN:VEVENT
DTSTART;TZID=America/New_York:20260223T140000
DTEND;TZID=America/New_York:20260223T150000
DTSTAMP:20260422T235107
CREATED:20260218T171725Z
LAST-MODIFIED:20260218T171725Z
UID:10007881-1771855200-1771858800@events.fitnyc.edu
SUMMARY:Virtual Career Fair Prep Workshop
DESCRIPTION:This virtual workshop is designed to answer your questions about FIT’s spring 2026 career fairs. \nWhether you will be attending the Art and Design Fair or the Career and Internship Fair (or both!)\, join Career and Internship Services representatives to gain valuable tips about preparing for the career fairs and leveraging all their offerings. \nThis virtual event is for the FIT community only. \n REGISTER VIA THE CSJB
URL:https://events.fitnyc.edu/event/virtual-career-fair-prep-workshop-2/
LOCATION:Virtual event
CATEGORIES:Workshop
ATTACH;FMTTYPE=image/png:https://events.fitnyc.edu/wp-content/uploads/2025/04/CIS-logo-400x220-1.png
ORGANIZER;CN="Career and Intership Services":MAILTO:career_internship@fitnyc.edu
END:VEVENT
BEGIN:VEVENT
DTSTART;TZID=America/New_York:20260225T120000
DTEND;TZID=America/New_York:20260225T130000
DTSTAMP:20260422T235107
CREATED:20260218T172951Z
LAST-MODIFIED:20260218T172951Z
UID:10007883-1772020800-1772024400@events.fitnyc.edu
SUMMARY:Writing a Standout Resume
DESCRIPTION:Are you looking for professional guidance on formatting\, organizing\, and maximizing your resume? Come meet with Career and Internship Services counselors to learn best practices for building your resume. \nPlease prepare for this workshop by bringing your current resume. \nThis event is for the FIT community only.  \n REGISTER VIA THE CSJB
URL:https://events.fitnyc.edu/event/writing-a-standout-resume-3/
LOCATION:Business and Liberal Arts Center\, Room B202\, Fashion Institute of Technology\, 227 W. 27th St.\, New York\, NY\, 10001\, United States
CATEGORIES:Workshop
ATTACH;FMTTYPE=image/png:https://events.fitnyc.edu/wp-content/uploads/2025/04/CIS-logo-400x220-1.png
ORGANIZER;CN="Career and Intership Services":MAILTO:career_internship@fitnyc.edu
END:VEVENT
BEGIN:VEVENT
DTSTART;TZID=America/New_York:20260225T130000
DTEND;TZID=America/New_York:20260225T140000
DTSTAMP:20260422T235107
CREATED:20260218T172248Z
LAST-MODIFIED:20260218T172248Z
UID:10007882-1772024400-1772028000@events.fitnyc.edu
SUMMARY:LinkedIn Essentials: Building Your Professional Profile
DESCRIPTION:Career and Internship Services career counselors will guide you through the process of building a branded LinkedIn profile. \nA quality LinkedIn presence is your gateway to networking and career development. Your profile might be the first impression employers and your peers have of you! \nLet’s work together to brand your LinkedIn profile for career success. \nThis event is for the FIT community only. \n REGISTER VIA THE CSJB
URL:https://events.fitnyc.edu/event/linkedin-essentials-building-your-professional-profile-2/
LOCATION:Business and Liberal Arts Center\, Room B202\, Fashion Institute of Technology\, 227 W. 27th St.\, New York\, NY\, 10001\, United States
CATEGORIES:Workshop
ATTACH;FMTTYPE=image/png:https://events.fitnyc.edu/wp-content/uploads/2025/04/CIS-logo-400x220-1.png
ORGANIZER;CN="Career and Intership Services":MAILTO:career_internship@fitnyc.edu
END:VEVENT
BEGIN:VEVENT
DTSTART;TZID=America/New_York:20260226T123000
DTEND;TZID=America/New_York:20260226T140000
DTSTAMP:20260422T235107
CREATED:20260209T165944Z
LAST-MODIFIED:20260209T170228Z
UID:10007869-1772109000-1772114400@events.fitnyc.edu
SUMMARY:Mental Health Resources Team’s All-Employee Training Sessions
DESCRIPTION:Have you ever had a difficult encounter with a student that left you unsure of what to do or where to go? There is a support network at FIT for you! \nIn the upcoming spring 2026 trainings we will: \n\n—Share what the Mental Health Resources Team does\n—Review FIT’s online resources available to help you manage challenging student encounters\n—Learn how you can respond to difficult situations with students\n—Engage in real life scenarios and learn tips and techniques for managing them well\n\nPlease join us on the following dates: \n\n—Thursday\, February 26\, 12:30-2 pm\, Dubinsky Student Center\, Room A803\n—Monday\, March 16\, 3–4:30 pm\, Virtual session\n—Tuesday\, April 14\, 12:30–2 pm\, Feldman Center\, Room C205\n\nThese sessions are for FIT employees only.  \n EMAIL BRENDA COWAN TO REGISTER
URL:https://events.fitnyc.edu/event/mental-health-resources-teams-all-employee-training-sessions/
LOCATION:Dubinsky Student Center\, Room A803\, Fashion Institute of Technology\, New York City \, NY\, United States
CATEGORIES:Faculty Events,Workshop
ATTACH;FMTTYPE=image/png:https://events.fitnyc.edu/wp-content/uploads/2025/11/mhrt_logo.png
ORGANIZER;CN="Brenda Cowan":MAILTO:brenda_cowan@fitnyc.edu
GEO:40.7127837;-74.0059413
X-APPLE-STRUCTURED-LOCATION;VALUE=URI;X-ADDRESS=Dubinsky Student Center Room A803 Fashion Institute of Technology New York City  NY United States;X-APPLE-RADIUS=500;X-TITLE=Fashion Institute of Technology:geo:-74.0059413,40.7127837
END:VEVENT
END:VCALENDAR