BEGIN:VCALENDAR
VERSION:2.0
PRODID:-//FIT Events - ECPv6.14.0//NONSGML v1.0//EN
CALSCALE:GREGORIAN
METHOD:PUBLISH
X-WR-CALNAME:FIT Events
X-ORIGINAL-URL:https://events.fitnyc.edu
X-WR-CALDESC:Events for FIT Events
REFRESH-INTERVAL;VALUE=DURATION:PT1H
X-Robots-Tag:noindex
X-PUBLISHED-TTL:PT1H
BEGIN:VTIMEZONE
TZID:America/New_York
BEGIN:DAYLIGHT
TZOFFSETFROM:-0500
TZOFFSETTO:-0400
TZNAME:EDT
DTSTART:20250309T070000
END:DAYLIGHT
BEGIN:STANDARD
TZOFFSETFROM:-0400
TZOFFSETTO:-0500
TZNAME:EST
DTSTART:20251102T060000
END:STANDARD
END:VTIMEZONE
BEGIN:VEVENT
DTSTART;TZID=America/New_York:20250318T173000
DTEND;TZID=America/New_York:20250318T190000
DTSTAMP:20260423T120152
CREATED:20250122T212130Z
LAST-MODIFIED:20250122T212130Z
UID:10007570-1742319000-1742324400@events.fitnyc.edu
SUMMARY:Fashion Culture: Beyond Vanity: The History and Power of Hairdressing
DESCRIPTION:Cover of Beyond Vanity: The History and Power of Hairdressing. Courtesy of MIT Press.\nJoin author and cultural historian Elizabeth L. Block and The Museum at FIT’s Digital Media and Strategic Initiatives Manager Tamsen Young as they discuss Block’s latest book\, Beyond Vanity: The History and Power of Hairdressing\, a riveting and diverse history of women’s hair that re-establishes the cultural power of hairdressing in 19th-century America. \nA book signing will follow the event. \nFashion Culture programs are organized by The Museum at FIT to provide new perspectives on the culture of fashion. All programs are free unless otherwise indicated. However\, reservations are strongly encouraged\, as space is limited. See a full calendar of spring 2025 Fashion Culture Program events on the museum website. \nThis event is free and open to the public; REGISTER HERE. 
URL:https://events.fitnyc.edu/event/fashion-culture-beyond-vanity-the-history-and-power-of-hairdressing/
LOCATION:Katie Murphy Amphitheatre\, Pomerantz Art and Design Center\, Fashion Institute of Technology\, New York City\, NY\, United States
CATEGORIES:Book Signing,Conversation,Public
ORGANIZER;CN="The Museum at FIT":MAILTO:museuminfo@fitnyc.edu
GEO:40.7127837;-74.0059413
X-APPLE-STRUCTURED-LOCATION;VALUE=URI;X-ADDRESS=Katie Murphy Amphitheatre Pomerantz Art and Design Center Fashion Institute of Technology New York City NY United States;X-APPLE-RADIUS=500;X-TITLE=Pomerantz Art and Design Center\, Fashion Institute of Technology:geo:-74.0059413,40.7127837
END:VEVENT
BEGIN:VEVENT
DTSTART;TZID=America/New_York:20250319T170000
DTEND;TZID=America/New_York:20250319T180000
DTSTAMP:20260423T120152
CREATED:20250311T144904Z
LAST-MODIFIED:20250311T144904Z
UID:10007648-1742403600-1742407200@events.fitnyc.edu
SUMMARY:FIT Authors Talk: Cora Harrington on 'In Intimate Detail'
DESCRIPTION:In Intimate Detail: How to Choose\, Wear\, and Love Lingerie is a comprehensive guide to all things lingerie\, from bras to underwear to shapewear to loungewear. With dozens of vivid watercolor illustrations and gender neutral language\, In Intimate Detail provides answers to underpinnings for everyone\, including people who are pregnant or nursing\, have had surgery or other physical concerns\, or are trans/non-binary. It even addresses essential care and shopping advice\, such as how to hand wash lingerie\, how to pack for travel\, or how to create a lingerie wardrobe. \nIn this beautiful and empowering guide\, lingerie expert Cora Harrington demystifies intimate apparel\, making it accessible to all sizes\, ages\, and budgets so you can confidently buy\, wear\, and care for the underpinnings of your dreams. \nThis event is part of the Gladys Marcus Library’s FIT Authors event series. \nThis virtual event is free and open to the public; find the virtual event link on the FIT Authors site. 
URL:https://events.fitnyc.edu/event/fit-authors-talk-cora-harrington-on-in-intimate-detail/
LOCATION:Virtual event
CATEGORIES:Online Event,Public,Reading
ORGANIZER;CN="Jennifer Brady%2C Gladys Marcus Library":MAILTO:jennifer_brady@gmail.com
END:VEVENT
END:VCALENDAR