BEGIN:VCALENDAR
VERSION:2.0
PRODID:-//FIT Events - ECPv6.14.0//NONSGML v1.0//EN
CALSCALE:GREGORIAN
METHOD:PUBLISH
X-ORIGINAL-URL:https://events.fitnyc.edu
X-WR-CALDESC:Events for FIT Events
REFRESH-INTERVAL;VALUE=DURATION:PT1H
X-Robots-Tag:noindex
X-PUBLISHED-TTL:PT1H
BEGIN:VTIMEZONE
TZID:America/New_York
BEGIN:DAYLIGHT
TZOFFSETFROM:-0500
TZOFFSETTO:-0400
TZNAME:EDT
DTSTART:20250309T070000
END:DAYLIGHT
BEGIN:STANDARD
TZOFFSETFROM:-0400
TZOFFSETTO:-0500
TZNAME:EST
DTSTART:20251102T060000
END:STANDARD
END:VTIMEZONE
BEGIN:VEVENT
DTSTART;TZID=America/New_York:20250304T173000
DTEND;TZID=America/New_York:20250304T190000
DTSTAMP:20260423T212249
CREATED:20250122T204927Z
LAST-MODIFIED:20250122T204927Z
UID:10007568-1741109400-1741114800@events.fitnyc.edu
SUMMARY:Fashion Culture: Objects of Wonder for 'Person Place Thing'
DESCRIPTION:Comme des Garçons\, dress printed with Archimboldo’s Vertumnus\, spring 2018\, Japan. Gift of Nordstrom\, 2021.33.5.\nJoin Randy Cohen and Dr. Colleen Hill in an engaging conversation about the exhibition Fashioning Wonder: A Cabinet of Curiosities. \nCohen’s podcast Person Place Thing is an interview show based on the idea that people are most captivating when they talk not directly about themselves\, but about something they care about. Hill\, MFIT’s senior curator of costume\, discusses three particularly meaningful objects featured in the exhibition and how they piqued her curiosity. \nFashion Culture programs are organized by The Museum at FIT to provide new perspectives on the culture of fashion. All programs are free unless otherwise indicated. However\, reservations are strongly encouraged\, as space is limited. See a full calendar of spring 2025 Fashion Culture Program events on the museum website. \nThis event is free and open to the public; REGISTER HERE.  
URL:https://events.fitnyc.edu/event/fashion-culture-objects-of-wonder-for-person-place-thing/
LOCATION:Katie Murphy Amphitheatre\, Pomerantz Art and Design Center\, Fashion Institute of Technology\, New York City\, NY\, United States
CATEGORIES:Conversation,Public
ORGANIZER;CN="The Museum at FIT":MAILTO:museuminfo@fitnyc.edu
GEO:40.7127837;-74.0059413
X-APPLE-STRUCTURED-LOCATION;VALUE=URI;X-ADDRESS=Katie Murphy Amphitheatre Pomerantz Art and Design Center Fashion Institute of Technology New York City NY United States;X-APPLE-RADIUS=500;X-TITLE=Pomerantz Art and Design Center\, Fashion Institute of Technology:geo:-74.0059413,40.7127837
END:VEVENT
BEGIN:VEVENT
DTSTART;TZID=America/New_York:20250304T180000
DTEND;TZID=America/New_York:20250304T190000
DTSTAMP:20260423T212249
CREATED:20250207T143844Z
LAST-MODIFIED:20250207T143844Z
UID:10007630-1741111200-1741114800@events.fitnyc.edu
SUMMARY:Center for Continuing and Professional Studies Info Session (Remote)
DESCRIPTION:Looking for a new job\, skill\, or do you just want to learn something new\, interesting\, and innovative? \nFIT’s programs in the Center for Continuing and Professional Studies are the perfect fit for those looking to advance in their careers or find a new job or learn the latest technologies. \nLearn about certificate opportunities in a variety of fields\, as well as individual course offerings\, from beginner to advanced. A question-and-answer session will follow a presentation highlighting course and certificate programs. \nThis virtual event is free and open to the public; REGISTER ONLINE. 
URL:https://events.fitnyc.edu/event/center-for-continuing-and-professional-studies-info-session-remote-6/
LOCATION:Virtual event
CATEGORIES:Information Session,Online Event,Public
ORGANIZER;CN="Center for Continuing and Professional Studies":MAILTO:conted@fitnyc.edu
END:VEVENT
BEGIN:VEVENT
DTSTART;TZID=America/New_York:20250306T153000
DTEND;TZID=America/New_York:20250306T220000
DTSTAMP:20260423T212249
CREATED:20250211T184650Z
LAST-MODIFIED:20250211T184650Z
UID:10007634-1741275000-1741298400@events.fitnyc.edu
SUMMARY:Browzwear Night at FIT
DESCRIPTION:Join 3D apparel design software maker Browzwear and the FIT DTech Lab for an exploration of the latest digital opportunities reshaping the apparel industry today. This event will focus on core topics such as digital maturity\, fit and accuracy\, business impact of DPC\, and change management\, and how these areas drive efficiency and innovation in digital product development. \nJoin us for a dynamic mix of thought leadership\, hands-on demonstrations\, and practical discussions: \n\nSpeaker Sessions: Gain valuable insights from leading experts on digital product creation and development\, industry best practices\, and how automation and AI are revolutionizing apparel organizations in today’s fast-paced market\, featuring speakers from Puma\, Under Armour\, and MAS Holdings.\nDemo Stations and Partner Booths: Discover interactive demo stations and partner booths\, featuring cutting-edge digital tools that are shaping the future of apparel production.\nNetworking Opportunities: Connect with key industry players\, including brands\, retailers\, and decision-makers\, and engage in discussions on digital transformation strategies.\n\nThis event is free and open to the public; REGISTER ON THE BROWZWEAR SITE. 
URL:https://events.fitnyc.edu/event/browzwear-night-at-fit-2/
LOCATION:Katie Murphy Amphitheatre\, Pomerantz Art and Design Center\, Fashion Institute of Technology\, New York City\, NY\, United States
CATEGORIES:Public,Symposium
ORGANIZER;CN="FIT DTech Lab":MAILTO:michael_ferraro@fitnyc.edu
GEO:40.7127837;-74.0059413
X-APPLE-STRUCTURED-LOCATION;VALUE=URI;X-ADDRESS=Katie Murphy Amphitheatre Pomerantz Art and Design Center Fashion Institute of Technology New York City NY United States;X-APPLE-RADIUS=500;X-TITLE=Pomerantz Art and Design Center\, Fashion Institute of Technology:geo:-74.0059413,40.7127837
END:VEVENT
END:VCALENDAR