BEGIN:VCALENDAR
VERSION:2.0
PRODID:-//FIT Events - ECPv6.14.0//NONSGML v1.0//EN
CALSCALE:GREGORIAN
METHOD:PUBLISH
X-ORIGINAL-URL:https://events.fitnyc.edu
X-WR-CALDESC:Events for FIT Events
REFRESH-INTERVAL;VALUE=DURATION:PT1H
X-Robots-Tag:noindex
X-PUBLISHED-TTL:PT1H
BEGIN:VTIMEZONE
TZID:America/New_York
BEGIN:DAYLIGHT
TZOFFSETFROM:-0500
TZOFFSETTO:-0400
TZNAME:EDT
DTSTART:20260308T070000
END:DAYLIGHT
BEGIN:STANDARD
TZOFFSETFROM:-0400
TZOFFSETTO:-0500
TZNAME:EST
DTSTART:20261101T060000
END:STANDARD
END:VTIMEZONE
BEGIN:VEVENT
DTSTART;TZID=America/New_York:20260421T120000
DTEND;TZID=America/New_York:20260421T130000
DTSTAMP:20260424T113500
CREATED:20260306T214642Z
LAST-MODIFIED:20260306T214642Z
UID:10007899-1776772800-1776776400@events.fitnyc.edu
SUMMARY:CCPS Information Session: Your Next Chapter Starts Here
DESCRIPTION:Photo by Joe Carrotta.\nAre you seeking a career pivot\, professional upskilling\, or exposure to cutting-edge industry trends? \nLearn about certificate opportunities in a variety of fields\, as well as individual course offerings\, from beginner to advanced. A question-and-answer session will follow the presentation. \nLet FIT’s Center for Continuing and Professional Studies reveal the paths you didn’t know were there and uncover the opportunities you haven’t seen yet. \nWhether you’re looking to advance in your career\, find a new job\, learn the latest technologies\, or simply explore new hobbies\, FIT’s programs are the perfect fit. \nThis virtual event is free and open to the public.  \n REGISTER VIA EVENTBRITE
URL:https://events.fitnyc.edu/event/ccps-information-session-your-next-chapter-starts-here-2/
LOCATION:Virtual event
CATEGORIES:Information Session,Online Event,Public
ATTACH;FMTTYPE=image/jpeg:https://events.fitnyc.edu/wp-content/uploads/2026/03/Carrotta_FIT-RemoteLearning-005-web.jpg
ORGANIZER;CN="Center for Continuing and Professional Studies":MAILTO:conted@fitnyc.edu
END:VEVENT
BEGIN:VEVENT
DTSTART;TZID=America/New_York:20260423T120000
DTEND;TZID=America/New_York:20260423T130000
DTSTAMP:20260424T113500
CREATED:20251010T205430Z
LAST-MODIFIED:20260420T135423Z
UID:10007795-1776945600-1776949200@events.fitnyc.edu
SUMMARY:World Affairs Lecture Series: Unbroken: Solidarity Through the Lens with Professor Nina Berman
DESCRIPTION:In this virtual World Affairs Lecture\, Columbia University Professor Nina Berman will be in conversation with Dr. Souzeina Mushtaq\, assistant professor of Communication and Media Studies at University of Wisconsin–River Falls\, on the topic of “Unbroken: Solidarity Through the Lens.” \nLifelong New Yorker and photojournalist Nina Berman draws on decades of documenting the city’s defining upheavals. From the depths of the AIDS crisis to the aftermath of Hurricane Sandy\, the surge of COVID-19 and waves of protest\, to illuminate the moments of collective care that rise amid crises. With a curated selection of photographs\, she reflects on how New Yorkers forge bonds of compassion and mutual support even as neighborhoods transform. Berman weaves personal recollection with powerful imagery to reveal that resilience and community are as fundamental to New York’s identity as its skyline. Her work has been exhibited at more than 100 international venues from the Whitney Museum Biennial to the concrete security walls at the Za’atari refugee camp. Public collections include the Smithsonian National Museum of American History\, the Museum of Fine Arts\, Houston\, the Museum of the City of New York\, the Harvard Art Museums and the Bibliothèque nationale de France among others. Berman is the recipient of a 2025 Guggenheim Fellowship. \nThe Department of Social Sciences’ World Affairs Lecture Series fulfills FIT’s mission to foster an understanding of diverse cultures and politics within the international as well as domestic perspectives. It also embraces\, supports\, and expands upon the president’s campuswide initiative on civility. Find an archive of previous lectures online.  \nJoin using this webinar link:\nhttps://fitnyc.webex.com/fitnyc/j.php?MTID=mc120037050d78d810efa3827321be861 \nWebinar number: 2864 358 2945\nWebinar password: fitnyc (348692 when dialing from a phone or video system) \nOr join by phone:\n+1-646-992-2010 United States Toll (New York City) \nThis virtual event is free and open to the public; join using the Webex link and use the password fitnyc.
URL:https://events.fitnyc.edu/event/world-affairs-lecture-series-unbroken-solidarity-through-the-lens-with-professor-nina-berman/
LOCATION:Virtual event
CATEGORIES:Lecture,Online Event,Public
ATTACH;FMTTYPE=image/jpeg:https://events.fitnyc.edu/wp-content/uploads/2025/10/NinaBerman_Head_4903.jpg
ORGANIZER;CN="Praveen Chaudhry":MAILTO:praveen_chaudhry@fitnyc.edu
END:VEVENT
END:VCALENDAR