BEGIN:VCALENDAR
VERSION:2.0
PRODID:-//FIT Events - ECPv6.14.0//NONSGML v1.0//EN
CALSCALE:GREGORIAN
METHOD:PUBLISH
X-ORIGINAL-URL:https://events.fitnyc.edu
X-WR-CALDESC:Events for FIT Events
REFRESH-INTERVAL;VALUE=DURATION:PT1H
X-Robots-Tag:noindex
X-PUBLISHED-TTL:PT1H
BEGIN:VTIMEZONE
TZID:America/New_York
BEGIN:DAYLIGHT
TZOFFSETFROM:-0500
TZOFFSETTO:-0400
TZNAME:EDT
DTSTART:20260308T070000
END:DAYLIGHT
BEGIN:STANDARD
TZOFFSETFROM:-0400
TZOFFSETTO:-0500
TZNAME:EST
DTSTART:20261101T060000
END:STANDARD
END:VTIMEZONE
BEGIN:VEVENT
DTSTART;TZID=America/New_York:20260420T130000
DTEND;TZID=America/New_York:20260420T140000
DTSTAMP:20260419T085005
CREATED:20260310T210923Z
LAST-MODIFIED:20260317T175618Z
UID:10007909-1776690000-1776693600@events.fitnyc.edu
SUMMARY:EAP Employee Connections Group
DESCRIPTION:The Employee Connections Group is a place where we come together to get to know one another better and build a sense of belonging throughout the FIT community. Collaboratively\, we decide on the direction of this group each month. This group is open to all employees and alternates between a morning group and an afternoon group each month. You’re welcome to bring a snack/meal along. \nThe Employee Connections Group will be on rotation across the college campus for the 2025–2026 Academic Year to increase participation and awareness of the group. \nFacilitated by Daria Best LCSW\, MS Ed. \n\nTuesday\, March 17\, 10:30–11:30 am\nDubinsky Student Center\, Room A803\nMonday\, April 20\, 1–2 pm\nDubinsky Student Center\, Room A803\nMonday\, May 5\, 1–2 pm\nJoyce F. Brown Academic Building\, Room N206\n\nFor those who are unable to attend the groups\, please feel free to contact the Employee Assistance Program office at (212) 217-5600 or email Daria Best to schedule an individual\, confidential appointment to discuss your concerns. Visit fitnyc.edu/eap for more information. \nThese events are for FIT employees only. 
URL:https://events.fitnyc.edu/event/eap-employee-connections-group/2026-04-20/
LOCATION:Dubinsky Student Center\, Room A803\, Fashion Institute of Technology\, New York City \, NY\, United States
CATEGORIES:Employee Events
ATTACH;FMTTYPE=image/png:https://events.fitnyc.edu/wp-content/uploads/2026/03/EAP-logo.png
GEO:40.7127837;-74.0059413
X-APPLE-STRUCTURED-LOCATION;VALUE=URI;X-ADDRESS=Dubinsky Student Center Room A803 Fashion Institute of Technology New York City  NY United States;X-APPLE-RADIUS=500;X-TITLE=Fashion Institute of Technology:geo:-74.0059413,40.7127837
END:VEVENT
END:VCALENDAR